BEGIN_USGS_DOQ_HEADER *
QUADRANGLE_NAME "NOYO HILL" 3.45 or 7.5-min. name*
QUADRANT SW quadrant indicator if cell size = 3.75-minutes*
WEST_LONGITUDE -123 45 0.000 signed deg min sec SDDD MM SS.SSS*
EAST_LONGITUDE -123 41 15.000 signed deg min sec SDDD MM SS.SSS*
NORTH_LATITUDE 39 26 15.000 signed deg min sec SDDD MM SS.SSS*
SOUTH_LATITUDE 39 22 30.000 signed deg min sec SDDD MM SS.SSS*
PRODUCTION_DATE 2000 8 10 yyyy mm dd*
RASTER_ORDER LEFT_RIGHT/TOP_BOTTOM video display order*
BAND_ORGANIZATION "SINGLE FILE" single file or BSQ, or BIL or BIP*
BAND_CONTENT BLACK&WHITE single file or BSQ, or BIL or BIP*
BITS_PER_PIXEL 8 radiometric resolution*
SAMPLES_AND_LINES 6093 7551 number of columns and rows*
HORIZONTAL_DATUM NAD83 primary horizontal datum*
HORIZONTAL_COORDINATE_SYSTEM UTM horizontal datum name*
COORDINATE_ZONE 10 coordinate system zone number*
HORIZONTAL_UNITS METERS coordinate system units*
HORIZONTAL_RESOLUTION 1.00 pixel horiz. ground sample distance*
SECONDARY_HORIZONTAL_DATUM NAD27 secondary horizontal datum*
XY_ORIGIN 435023.000 4365877.000 coord. of upper left pixel pri. datum*
SECONDARY_XY_ORIGIN 435118.259 4365679.495 coord upper left pixel sec datum*
NATION US nation code*
STATE CA state fip code*
NW_QUAD_CORNER_XY 435457.665 4365596.606 XY coords. of pri. NW quad corner*
NE_QUAD_CORNER_XY 440836.246 4365553.743 XY coords. of pri. NE quad corner*
SE_QUAD_CORNER_XY 440783.408 4358617.468 XY coords. of pri. SE quad corner*
SW_QUAD_CORNER_XY 435400.023 4358660.312 XY coords. of pri. SW quad corner*
SECONDARY_NW_QUAD_XY 435455.993 4365387.716 XY coords. - sec. NW quad cor.*
SECONDARY_NE_QUAD_XY 440834.713 4365344.852 XY coords. - sec. NE quad cor.*
SECONDARY_SE_QUAD_XY 440781.876 4358408.708 XY coords. - sec. SE quad cor.*
SECONDARY_SW_QUAD_XY 435398.352 4358451.553 XY coords. - sec. SW quad cor.*
RMSE_XY 0.10 doq horiz. accuracy*
IMAGE_SOURCE "BLACK AND WHITE FILM" b&w, cir, natural color, other*
SOURCE_IMAGE_ID "NAPP 10534 074" source image id*
SOURCE_IMAGE_DATE 1998 9 11 source image date as yyyy mm dd*
SOURCE_DEM_DATE 1991 01 01 source dem date yyyy mm dd*
AGENCY "WESTERN MAPPING CENTER (WMC)" oversight agency*
PRODUCER "EARTHDATA INTERNATIONAL" producer/contractor*
PRODUCTION_SYSTEM "SGI AUTOMETRIC" production system*
STANDARD_VERSION 1996 12 version of DOQ standard*
METADATA_DATE 2000 8 10 date created or changed, yyyy mm dd*
DATA_FILE_SIZE 46014336 data set size in bytes*
BYTE_COUNT 6093 header byte count* * * * * * * * * * * * * * * * * * * * * * * * * * * * * * * * * *
END_USGS_HEADER *
