BEGIN_USGS_DOQ_HEADER *
QUADRANGLE_NAME "SANHEDRIN MOUNTAIN" *
QUADRANT SE *
WEST_LONGITUDE -123 3 45.000 *
EAST_LONGITUDE -123 0 0.000 *
NORTH_LATITUDE 39 33 45.000 *
SOUTH_LATITUDE 39 30 0.000 *
PRODUCTION_DATE 2000 11 25 *
RASTER_ORDER LEFT_RIGHT/TOP_BOTTOM *
BAND_ORGANIZATION "SINGLE FILE" *
BAND_CONTENT BLACK&WHITE *
BITS_PER_PIXEL 8 *
SAMPLES_AND_LINES 6070 7551 *
HORIZONTAL_DATUM NAD83 *
HORIZONTAL_COORDINATE_SYSTEM UTM *
COORDINATE_ZONE 10 *
HORIZONTAL_UNITS METERS *
HORIZONTAL_RESOLUTION 1.0 *
SECONDARY_HORIZONTAL_DATUM NAD27 *
XY_ORIGIN 494230.345 4379502.200 *
SECONDARY_XY_ORIGIN 494326.129 4379306.296 *
NATION US *
STATE CA *
NW_QUAD_CORNER_XY 494631.127 4379202.700 *
NE_QUAD_CORNER_XY 500000.000 4379200.835 *
SE_QUAD_CORNER_XY 500000.000 4372264.508 *
SW_QUAD_CORNER_XY 494626.311 4372266.372 *
SECONDARY_NW_QUAD_XY 494630.990 4378993.543 *
SECONDARY_NE_QUAD_XY 500000.003 4378991.678 *
SECONDARY_SE_QUAD_XY 500000.002 4372055.480 *
SECONDARY_SW_QUAD_XY 494626.174 4372057.344 *
RMSE_XY 0.80 *
IMAGE_SOURCE "BLACK AND WHITE FILM" *
SOURCE_IMAGE_ID "NAPP 10483 2" *
SOURCE_IMAGE_DATE 1998 8 19 *
SOURCE_IMAGE_ID "NAPP 10483 1" *
SOURCE_IMAGE_DATE 1998 8 19 *
SOURCE_IMAGE_ID "NAPP 10483 3" *
SOURCE_IMAGE_DATE 1998 8 19 *
SOURCE_IMAGE_ID "NAPP 10481 1" *
SOURCE_IMAGE_DATE 1998 8 14 *
SOURCE_IMAGE_ID "NAPP 10481 2" *
SOURCE_IMAGE_DATE 1998 8 14 *
SOURCE_IMAGE_ID "NAPP 10481 3" *
SOURCE_IMAGE_DATE 1998 8 14 *
SOURCE_DEM_DATE 2000 0 0 *
AGENCY "WESTERN MAPPING CENTER (WMC)" *
PRODUCER "USDA FS GEOSPATIAL SERVICE AND TECHNOLOGY CENTER" *
PRODUCTION_SYSTEM "ORBIT OR_RECTIFY V.5.2" *
STANDARD_VERSION 1996 12 *
METADATA_DATE 2000 11 25 *
DATA_FILE_SIZE 45840640 *
BYTE_COUNT 6070 * * * * * * * * * * * * * * * * * * * * * * *
END_USGS_HEADER *
