BEGIN_USGS_DOQ_HEADER *
QUADRANGLE_NAME "SANHEDRIN MOUNTAIN" *
QUADRANT SW *
WEST_LONGITUDE -123 7 30.000 *
EAST_LONGITUDE -123 3 45.000 *
NORTH_LATITUDE 39 33 45.000 *
SOUTH_LATITUDE 39 30 0.000 *
PRODUCTION_DATE 2000 11 25 *
RASTER_ORDER LEFT_RIGHT/TOP_BOTTOM *
BAND_ORGANIZATION "SINGLE FILE" *
BAND_CONTENT BLACK&WHITE *
BITS_PER_PIXEL 8 *
SAMPLES_AND_LINES 6075 7555 *
HORIZONTAL_DATUM NAD83 *
HORIZONTAL_COORDINATE_SYSTEM UTM *
COORDINATE_ZONE 10 *
HORIZONTAL_UNITS METERS *
HORIZONTAL_RESOLUTION 1.0 *
SECONDARY_HORIZONTAL_DATUM NAD27 *
XY_ORIGIN 488856.998 4379507.795 *
SECONDARY_XY_ORIGIN 488952.802 4379311.811 *
NATION US *
STATE CA *
NW_QUAD_CORNER_XY 489262.254 4379208.295 *
NE_QUAD_CORNER_XY 494631.127 4379202.700 *
SE_QUAD_CORNER_XY 494626.311 4372266.372 *
SW_QUAD_CORNER_XY 489252.622 4372271.965 *
SECONDARY_NW_QUAD_XY 489261.977 4378999.138 *
SECONDARY_NE_QUAD_XY 494630.990 4378993.543 *
SECONDARY_SE_QUAD_XY 494626.174 4372057.344 *
SECONDARY_SW_QUAD_XY 489252.345 4372062.937 *
RMSE_XY 0.80 *
IMAGE_SOURCE "BLACK AND WHITE FILM" *
SOURCE_IMAGE_ID "NAPP 10481 2" *
SOURCE_IMAGE_DATE 1998 8 14 *
SOURCE_IMAGE_ID "NAPP 10481 1" *
SOURCE_IMAGE_DATE 1998 8 14 *
SOURCE_IMAGE_ID "NAPP 10481 3" *
SOURCE_IMAGE_DATE 1998 8 14 *
SOURCE_IMAGE_ID "NAPP 10483 1" *
SOURCE_IMAGE_DATE 1998 8 19 *
SOURCE_IMAGE_ID "NAPP 10483 2" *
SOURCE_IMAGE_DATE 1998 8 19 *
SOURCE_IMAGE_ID "NAPP 10483 3" *
SOURCE_IMAGE_DATE 1998 8 19 *
SOURCE_DEM_DATE 2000 0 0 *
AGENCY "WESTERN MAPPING CENTER (WMC)" *
PRODUCER "USDA FS GEOSPATIAL SERVICE AND TECHNOLOGY CENTER" *
PRODUCTION_SYSTEM "ORBIT OR_RECTIFY V.5.2" *
STANDARD_VERSION 1996 12 *
METADATA_DATE 2000 11 25 *
DATA_FILE_SIZE 45902700 *
BYTE_COUNT 6075 * * * * * * * * * * * * * * * * * * * * * * *
END_USGS_HEADER *
