BEGIN_USGS_DOQ_HEADER *
QUADRANGLE_NAME "BRUSHY MOUNTAIN" *
QUADRANT NE *
WEST_LONGITUDE -123 11 15.000 *
EAST_LONGITUDE -123 7 30.000 *
NORTH_LATITUDE 39 37 30.000 *
SOUTH_LATITUDE 39 33 45.000 *
PRODUCTION_DATE 2000 11 15 *
RASTER_ORDER LEFT_RIGHT/TOP_BOTTOM *
BAND_ORGANIZATION "SINGLE FILE" *
BAND_CONTENT BLACK&WHITE *
BITS_PER_PIXEL 8 *
SAMPLES_AND_LINES 6075 7559 *
HORIZONTAL_DATUM NAD83 *
HORIZONTAL_COORDINATE_SYSTEM UTM *
COORDINATE_ZONE 10 *
HORIZONTAL_UNITS METERS *
HORIZONTAL_RESOLUTION 1.0 *
SECONDARY_HORIZONTAL_DATUM NAD27 *
XY_ORIGIN 483497.636 4386453.529 *
SECONDARY_XY_ORIGIN 483593.421 4386257.437 *
NATION US *
STATE CA *
NW_QUAD_CORNER_XY 483907.845 4386154.029 *
NE_QUAD_CORNER_XY 489271.898 4386144.700 *
SE_QUAD_CORNER_XY 489262.254 4379208.295 *
SW_QUAD_CORNER_XY 483893.377 4379217.620 *
SECONDARY_NW_QUAD_XY 483907.428 4385944.744 *
SECONDARY_NE_QUAD_XY 489271.622 4385935.415 *
SECONDARY_SE_QUAD_XY 489261.977 4378999.138 *
SECONDARY_SW_QUAD_XY 483892.961 4379008.464 *
RMSE_XY 0.50 *
IMAGE_SOURCE "BLACK AND WHITE FILM" *
SOURCE_IMAGE_ID "NAPP 10477 236" *
SOURCE_IMAGE_DATE 1998 8 12 *
SOURCE_IMAGE_ID "NAPP 10477 237" *
SOURCE_IMAGE_DATE 1998 8 12 *
SOURCE_IMAGE_ID "NAPP 10477 235" *
SOURCE_IMAGE_DATE 1998 8 12 *
SOURCE_IMAGE_ID "NAPP 10477 216" *
SOURCE_IMAGE_DATE 1998 8 12 *
SOURCE_IMAGE_ID "NAPP 10477 217" *
SOURCE_IMAGE_DATE 1998 8 12 *
SOURCE_IMAGE_ID "NAPP 10477 218" *
SOURCE_IMAGE_DATE 1998 8 12 *
SOURCE_DEM_DATE 2000 0 0 *
AGENCY "WESTERN MAPPING CENTER (WMC)" *
PRODUCER "USDA FS GEOSPATIAL SERVICE AND TECHNOLOGY CENTER" *
PRODUCTION_SYSTEM "ORBIT OR_RECTIFY V.5.2" *
STANDARD_VERSION 1996 12 *
METADATA_DATE 2000 11 14 *
DATA_FILE_SIZE 45927000 *
BYTE_COUNT 6075 * * * * * * * * * * * * * * * * * * * * * * *
END_USGS_HEADER *
