BEGIN_USGS_DOQ_HEADER *
QUADRANGLE_NAME "BRUSHY MOUNTAIN" 3.45 or 7.5-min. name*
QUADRANT NW quadrant indicator if cell size = 3.75-minutes*
WEST_LONGITUDE -123 15 0.000 signed deg min sec SDDD MM SS.SSS*
EAST_LONGITUDE -123 11 15.000 signed deg min sec SDDD MM SS.SSS*
NORTH_LATITUDE 39 37 30.000 signed deg min sec SDDD MM SS.SSS*
SOUTH_LATITUDE 39 33 45.000 signed deg min sec SDDD MM SS.SSS*
PRODUCTION_DATE 1996 7 29 yyyy mm dd*
RASTER_ORDER LEFT_RIGHT/TOP_BOTTOM video display order*
BAND_ORGANIZATION "SINGLE FILE" single file or BSQ, or BIL or BIP*
BAND_CONTENT BLACK&WHITE black&white or red green blue*
BITS_PER_PIXEL 8 radiometric resolution*
SAMPLES_AND_LINES 6120 7590 number of columns and rows*
HORIZONTAL_DATUM NAD83 primary horizontal datum*
HORIZONTAL_COORDINATE_SYSTEM UTM *
COORDINATE_ZONE 10 coordinate system zone number*
HORIZONTAL_UNITS METERS coordinate system units*
HORIZONTAL_RESOLUTION 1.00 pixel horiz. ground sample distance*
SECONDARY_HORIZONTAL_DATUM NAD27 secondary horizontal datum*
XY_ORIGIN 478110.000 4386480.000 coord. of upper left pixel pri. datum*
SECONDARY_XY_ORIGIN 478205.805 4386283.834 coord upper left pixel sec datum*
NATION US nation code*
STATE CA state fip code*
NW_QUAD_CORNER_XY 478543.787 4386167.090 XY coords. of pri. NW quad corner*
NE_QUAD_CORNER_XY 483907.845 4386154.029 XY coords. of pri. NE quad corner*
SE_QUAD_CORNER_XY 483893.377 4379217.620 XY coords. of pri. SE quad corner*
SW_QUAD_CORNER_XY 478524.497 4379230.676 XY coords. of pri. SW quad corner*
SECONDARY_NW_QUAD_XY 478543.229 4385957.806 XY coords. - sec. NW quad cor.*
SECONDARY_NE_QUAD_XY 483907.426 4385944.744 XY coords. - sec. NE quad cor.*
SECONDARY_SE_QUAD_XY 483892.959 4379008.464 XY coords. - sec. SE quad cor.*
SECONDARY_SW_QUAD_XY 478523.939 4379021.520 XY coords. - sec. SW quad cor.*
RMSE_XY 2.90 doq horiz. accuracy*
IMAGE_SOURCE "BLACK AND WHITE FILM" b&w, cir, natural color, other*
SOURCE_IMAGE_ID "NAPP 6251 197" source image id*
SOURCE_IMAGE_DATE 1993 6 24 source image date as yyyy mm dd*
SOURCE_DEM_DATE 1996 7 29 source dem date yyyy mm dd*
AGENCY "WESTERN MAPPING CENTER (WMC)" oversight agency*
PRODUCER "Analytical Surveys" producer/contractor*
PRODUCTION_SYSTEM "ORBIT OR_RECTIFY V.5.2" production system*
STANDARD_VERSION 1996 12 version of DOQ standard*
METADATA_DATE 1997 7 22 date created or changed, yyyy mm dd*
DATA_FILE_SIZE 46456920 data set size in bytes*
BYTE_COUNT 6120 header byte count* * * * * * * * * * * * * * * * * * * * * * * * * * * * * * * * * *
END_USGS_HEADER *
