BEGIN_USGS_DOQ_HEADER *
QUADRANGLE_NAME "BRUSHY MOUNTAIN" *
QUADRANT SW *
WEST_LONGITUDE -123 15 0.000 *
EAST_LONGITUDE -123 11 15.000 *
NORTH_LATITUDE 39 33 45.000 *
SOUTH_LATITUDE 39 30 0.000 *
PRODUCTION_DATE 2000 11 15 *
RASTER_ORDER LEFT_RIGHT/TOP_BOTTOM *
BAND_ORGANIZATION "SINGLE FILE" *
BAND_CONTENT BLACK&WHITE *
BITS_PER_PIXEL 8 *
SAMPLES_AND_LINES 6085 7562 *
HORIZONTAL_DATUM NAD83 *
HORIZONTAL_COORDINATE_SYSTEM UTM *
COORDINATE_ZONE 10 *
HORIZONTAL_UNITS METERS *
HORIZONTAL_RESOLUTION 1.0 *
SECONDARY_HORIZONTAL_DATUM NAD27 *
XY_ORIGIN 478109.296 4379530.676 *
SECONDARY_XY_ORIGIN 478205.135 4379334.529 *
NATION US *
STATE CA *
NW_QUAD_CORNER_XY 478524.497 4379230.676 *
NE_QUAD_CORNER_XY 483893.377 4379217.620 *
SE_QUAD_CORNER_XY 483878.929 4372281.286 *
SW_QUAD_CORNER_XY 478505.233 4372294.336 *
SECONDARY_NW_QUAD_XY 478523.941 4379021.519 *
SECONDARY_NE_QUAD_XY 483892.961 4379008.464 *
SECONDARY_SE_QUAD_XY 483878.514 4372072.259 *
SECONDARY_SW_QUAD_XY 478504.677 4372085.309 *
RMSE_XY 0.30 *
IMAGE_SOURCE "BLACK AND WHITE FILM" *
SOURCE_IMAGE_ID "NAPP 10477 214" *
SOURCE_IMAGE_DATE 1998 8 12 *
SOURCE_IMAGE_ID "NAPP 10477 215" *
SOURCE_IMAGE_DATE 1998 8 12 *
SOURCE_IMAGE_ID "NAPP 10477 216" *
SOURCE_IMAGE_DATE 1998 8 12 *
SOURCE_IMAGE_ID "NAPP 10477 237" *
SOURCE_IMAGE_DATE 1998 8 12 *
SOURCE_IMAGE_ID "NAPP 10477 238" *
SOURCE_IMAGE_DATE 1998 8 12 *
SOURCE_IMAGE_ID "NAPP 10477 239" *
SOURCE_IMAGE_DATE 1998 8 12 *
SOURCE_DEM_DATE 2000 0 0 *
AGENCY "WESTERN MAPPING CENTER (WMC)" *
PRODUCER "USDA FS GEOSPATIAL SERVICE AND TECHNOLOGY CENTER" *
PRODUCTION_SYSTEM "ORBIT OR_RECTIFY V.5.2" *
STANDARD_VERSION 1996 12 *
METADATA_DATE 2000 11 10 *
DATA_FILE_SIZE 46020855 *
BYTE_COUNT 6085 * * * * * * * * * * * * * * * * * * * * * * * *
END_USGS_HEADER *
