BEGIN_USGS_DOQ_HEADER *
QUADRANGLE_NAME "WILLIS RIDGE" 3.45 or 7.5-min. name*
QUADRANT NW quadrant indicator if cell size = 3.75-minutes*
WEST_LONGITUDE -123 22 30.000 signed deg min sec SDDD MM SS.SSS*
EAST_LONGITUDE -123 18 45.000 signed deg min sec SDDD MM SS.SSS*
NORTH_LATITUDE 39 37 30.000 signed deg min sec SDDD MM SS.SSS*
SOUTH_LATITUDE 39 33 45.000 signed deg min sec SDDD MM SS.SSS*
PRODUCTION_DATE 2000 8 17 yyyy mm dd*
RASTER_ORDER LEFT_RIGHT/TOP_BOTTOM video display order*
BAND_ORGANIZATION "SINGLE FILE" single file or BSQ, or BIL or BIP*
BAND_CONTENT BLACK&WHITE single file or BSQ, or BIL or BIP*
BITS_PER_PIXEL 8 radiometric resolution*
SAMPLES_AND_LINES 6050 7530 number of columns and rows*
HORIZONTAL_DATUM NAD83 primary horizontal datum*
HORIZONTAL_COORDINATE_SYSTEM UTM horizontal datum name*
COORDINATE_ZONE 10 coordinate system zone number*
HORIZONTAL_UNITS METERS coordinate system units*
HORIZONTAL_RESOLUTION 1.00 pixel horiz. ground sample distance*
SECONDARY_HORIZONTAL_DATUM NAD27 secondary horizontal datum*
XY_ORIGIN 467410.000 4386484.000 coord. of upper left pixel pri. datum*
SECONDARY_XY_ORIGIN 467505.723 4386287.662 coord upper left pixel sec datum*
NATION US nation code*
STATE CA state fip code*
NW_QUAD_CORNER_XY 467815.657 4386204.408 XY coords. of pri. NW quad corner*
NE_QUAD_CORNER_XY 473179.725 4386183.883 XY coords. of pri. NE quad corner*
SE_QUAD_CORNER_XY 473155.613 4379247.462 XY coords. of pri. SE quad corner*
SW_QUAD_CORNER_XY 467786.722 4379267.978 XY coords. of pri. SW quad corner*
SECONDARY_NW_QUAD_XY 467814.819 4385995.124 XY coords. - sec. NW quad cor.*
SECONDARY_NE_QUAD_XY 473179.027 4385974.599 XY coords. - sec. NE quad cor.*
SECONDARY_SE_QUAD_XY 473154.915 4379038.306 XY coords. - sec. SE quad cor.*
SECONDARY_SW_QUAD_XY 467785.885 4379058.823 XY coords. - sec. SW quad cor.*
RMSE_XY 0.10 doq horiz. accuracy*
IMAGE_SOURCE "BLACK AND WHITE FILM" b&w, cir, natural color, other*
SOURCE_IMAGE_ID "NAPP 10479 167" source image id*
SOURCE_IMAGE_DATE 1998 8 13 source image date as yyyy mm dd*
SOURCE_DEM_DATE 1973 01 01 source dem date yyyy mm dd*
AGENCY "WESTERN MAPPING CENTER (WMC)" oversight agency*
PRODUCER "EARTHDATA INTERNATIONAL" producer/contractor*
PRODUCTION_SYSTEM "SGI AUTOMETRIC" production system*
STANDARD_VERSION 1996 12 version of DOQ standard*
METADATA_DATE 2000 8 17 date created or changed, yyyy mm dd*
DATA_FILE_SIZE 45562550 data set size in bytes*
BYTE_COUNT 6050 header byte count* * * * * * * * * * * * * * * * * * * * * * * * * * * * * * * * *
END_USGS_HEADER *
