BEGIN_USGS_DOQ_HEADER *
QUADRANGLE_NAME "INGLENOOK" 3.45 or 7.5-min. name*
QUADRANT NE quadrant indicator if cell size = 3.75-minutes*
WEST_LONGITUDE -123 48 45.000 signed deg min sec SDDD MM SS.SSS*
EAST_LONGITUDE -123 45 0.000 signed deg min sec SDDD MM SS.SSS*
NORTH_LATITUDE 39 37 30.000 signed deg min sec SDDD MM SS.SSS*
SOUTH_LATITUDE 39 33 45.000 signed deg min sec SDDD MM SS.SSS*
PRODUCTION_DATE 2000 8 10 yyyy mm dd*
RASTER_ORDER LEFT_RIGHT/TOP_BOTTOM video display order*
BAND_ORGANIZATION "SINGLE FILE" single file or BSQ, or BIL or BIP*
BAND_CONTENT BLACK&WHITE single file or BSQ, or BIL or BIP*
BITS_PER_PIXEL 8 radiometric resolution*
SAMPLES_AND_LINES 6084 7556 number of columns and rows*
HORIZONTAL_DATUM NAD83 primary horizontal datum*
HORIZONTAL_COORDINATE_SYSTEM UTM horizontal datum name*
COORDINATE_ZONE 10 coordinate system zone number*
HORIZONTAL_UNITS METERS coordinate system units*
HORIZONTAL_RESOLUTION 1.00 pixel horiz. ground sample distance*
SECONDARY_HORIZONTAL_DATUM NAD27 secondary horizontal datum*
XY_ORIGIN 429827.000 4386733.000 coord. of upper left pixel pri. datum*
SECONDARY_XY_ORIGIN 429922.235 4386535.966 coord upper left pixel sec datum*
NATION US nation code*
STATE CA state fip code*
NW_QUAD_CORNER_XY 430266.909 4386452.579 XY coords. of pri. NW quad corner*
NE_QUAD_CORNER_XY 435631.053 4386405.929 XY coords. of pri. NE quad corner*
SE_QUAD_CORNER_XY 435573.180 4379469.415 XY coords. of pri. SE quad corner*
SW_QUAD_CORNER_XY 430204.212 4379516.045 XY coords. of pri. SW quad corner*
SECONDARY_NW_QUAD_XY 430265.094 4386243.302 XY coords. - sec. NW quad cor.*
SECONDARY_NE_QUAD_XY 435629.378 4386196.651 XY coords. - sec. NE quad cor.*
SECONDARY_SE_QUAD_XY 435571.506 4379260.265 XY coords. - sec. SE quad cor.*
SECONDARY_SW_QUAD_XY 430202.398 4379306.897 XY coords. - sec. SW quad cor.*
RMSE_XY 0.10 doq horiz. accuracy*
IMAGE_SOURCE "BLACK AND WHITE FILM" b&w, cir, natural color, other*
SOURCE_IMAGE_ID "NAPP 10489 004" source image id*
SOURCE_IMAGE_DATE 1998 9 11 source image date as yyyy mm dd*
SOURCE_DEM_DATE 1976 01 01 source dem date yyyy mm dd*
AGENCY "WESTERN MAPPING CENTER (WMC)" oversight agency*
PRODUCER "EARTHDATA INTERNATIONAL" producer/contractor*
PRODUCTION_SYSTEM "SGI AUTOMETRIC" production system*
STANDARD_VERSION 1996 12 version of DOQ standard*
METADATA_DATE 2000 8 10 date created or changed, yyyy mm dd*
DATA_FILE_SIZE 45976788 data set size in bytes*
BYTE_COUNT 6084 header byte count* * * * * * * * * * * * * * * * * * * * * * * * * * * * * * * * * *
END_USGS_HEADER *
