BEGIN_USGS_DOQ_HEADER *
QUADRANGLE_NAME "THATCHER RIDGE" *
QUADRANT NW *
WEST_LONGITUDE -123 7 30.000 *
EAST_LONGITUDE -123 3 45.000 *
NORTH_LATITUDE 39 45 0.000 *
SOUTH_LATITUDE 39 41 15.000 *
PRODUCTION_DATE 2000 11 25 *
RASTER_ORDER LEFT_RIGHT/TOP_BOTTOM *
BAND_ORGANIZATION "SINGLE FILE" *
BAND_CONTENT BLACK&WHITE *
BITS_PER_PIXEL 8 *
SAMPLES_AND_LINES 6060 7556 *
HORIZONTAL_DATUM NAD83 *
HORIZONTAL_COORDINATE_SYSTEM UTM *
COORDINATE_ZONE 10 *
HORIZONTAL_UNITS METERS *
HORIZONTAL_RESOLUTION 1.0 *
SECONDARY_HORIZONTAL_DATUM NAD27 *
XY_ORIGIN 488885.559 4400317.734 *
SECONDARY_XY_ORIGIN 488981.239 4400121.648 *
NATION US *
STATE CA *
NW_QUAD_CORNER_XY 489291.226 4400017.734 *
NE_QUAD_CORNER_XY 494645.614 4400012.131 *
SE_QUAD_CORNER_XY 494640.779 4393075.579 *
SW_QUAD_CORNER_XY 489281.556 4393081.179 *
SECONDARY_NW_QUAD_XY 489290.950 4399808.194 *
SECONDARY_NE_QUAD_XY 494645.477 4399802.592 *
SECONDARY_SE_QUAD_XY 494640.642 4392866.167 *
SECONDARY_SW_QUAD_XY 489281.279 4392871.767 *
RMSE_XY 0.80 *
IMAGE_SOURCE "BLACK AND WHITE FILM" *
SOURCE_IMAGE_ID "NAPP 10481 8" *
SOURCE_IMAGE_DATE 1998 8 14 *
SOURCE_IMAGE_ID "NAPP 10481 7" *
SOURCE_IMAGE_DATE 1998 8 14 *
SOURCE_IMAGE_ID "NAPP 10481 9" *
SOURCE_IMAGE_DATE 1998 8 14 *
SOURCE_IMAGE_ID "NAPP 10483 7" *
SOURCE_IMAGE_DATE 1998 8 19 *
SOURCE_IMAGE_ID "NAPP 10483 8" *
SOURCE_IMAGE_DATE 1998 8 19 *
SOURCE_IMAGE_ID "NAPP 10483 9" *
SOURCE_IMAGE_DATE 1998 8 19 *
SOURCE_DEM_DATE 2000 0 0 *
AGENCY "WESTERN MAPPING CENTER (WMC)" *
PRODUCER "USDA FS GEOSPATIAL SERVICE AND TECHNOLOGY CENTER" *
PRODUCTION_SYSTEM "ORBIT OR_RECTIFY V.5.2" *
STANDARD_VERSION 1996 12 *
METADATA_DATE 2000 11 25 *
DATA_FILE_SIZE 45795420 *
BYTE_COUNT 6060 * * * * * * * * * * * * * * * * * * * * * * *
END_USGS_HEADER *
