BEGIN_USGS_DOQ_HEADER *
QUADRANGLE_NAME "THATCHER RIDGE" 3.45 or 7.5-min. name*
QUADRANT SE quadrant indicator if cell size = 3.75-minutes*
WEST_LONGITUDE -123 3 45.000 signed deg min sec SDDD MM SS.SSS*
EAST_LONGITUDE -123 0 0.000 signed deg min sec SDDD MM SS.SSS*
NORTH_LATITUDE 39 41 15.000 signed deg min sec SDDD MM SS.SSS*
SOUTH_LATITUDE 39 37 30.000 signed deg min sec SDDD MM SS.SSS*
PRODUCTION_DATE 1996 4 29 yyyy mm dd*
RASTER_ORDER LEFT_RIGHT/TOP_BOTTOM video display order*
BAND_ORGANIZATION "SINGLE FILE" single file or BSQ, or BIL or BIP*
BAND_CONTENT BLACK&WHITE black&white or red green blue*
BITS_PER_PIXEL 8 radiometric resolution*
SAMPLES_AND_LINES 6070 7562 number of columns and rows*
HORIZONTAL_DATUM NAD83 primary horizontal datum*
HORIZONTAL_COORDINATE_SYSTEM UTM *
COORDINATE_ZONE 10 coordinate system zone number*
HORIZONTAL_UNITS METERS coordinate system units*
HORIZONTAL_RESOLUTION 1.00 pixel horiz. ground sample distance*
SECONDARY_HORIZONTAL_DATUM NAD27 secondary horizontal datum*
XY_ORIGIN 494235.500 4393380.500 coord. of upper left pixel pri. datum*
SECONDARY_XY_ORIGIN 494331.190 4393184.510 coord upper left pixel sec datum*
NATION US nation code*
STATE CA state fip code*
NW_QUAD_CORNER_XY 494640.780 4393075.580 XY coords. of pri. NW quad corner*
NE_QUAD_CORNER_XY 500000.000 4393073.710 XY coords. of pri. NE quad corner*
SE_QUAD_CORNER_XY 500000.000 4386137.240 XY coords. of pri. SE quad corner*
SW_QUAD_CORNER_XY 494635.950 4386139.100 XY coords. of pri. SW quad corner*
SECONDARY_NW_QUAD_XY 494640.640 4392866.170 XY coords. - sec. NW quad cor.*
SECONDARY_NE_QUAD_XY 500000.000 4392864.300 XY coords. - sec. NE quad cor.*
SECONDARY_SE_QUAD_XY 500000.000 4385927.950 XY coords. - sec. SE quad cor.*
SECONDARY_SW_QUAD_XY 494635.810 4385929.820 XY coords. - sec. SW quad cor.*
RMSE_XY 2.60 doq horiz. accuracy*
IMAGE_SOURCE "BLACK AND WHITE FILM" b&w, cir, natural color, other*
SOURCE_IMAGE_ID "PAPP 2252 333" source image id*
SOURCE_IMAGE_DATE 1993 7 25 source image date as yyyy mm dd*
SOURCE_DEM_DATE 1996 4 29 source dem date yyyy mm dd*
AGENCY "WESTERN MAPPING CENTER (WMC)" oversight agency*
PRODUCER "Woolpert Consultants" producer/contractor*
PRODUCTION_SYSTEM "INTERGRAPH ISPM,ISIR" production system*
STANDARD_VERSION 1996 12 version of DOQ standard*
METADATA_DATE 1997 5 27 date created or changed, yyyy mm dd*
DATA_FILE_SIZE 45907410 data set size in bytes*
BYTE_COUNT 6070 header byte count* * * * * * * * * * * * * * * * * * * * * * * * * * * * * * * * *
END_USGS_HEADER *
