BEGIN_USGS_DOQ_HEADER *
QUADRANGLE_NAME "CAHTO PEAK" 3.45 or 7.5-min. name*
QUADRANT SE quadrant indicator if cell size = 3.75-minutes*
WEST_LONGITUDE -123 33 45.000 signed deg min sec SDDD MM SS.SSS*
EAST_LONGITUDE -123 30 0.000 signed deg min sec SDDD MM SS.SSS*
NORTH_LATITUDE 39 41 15.000 signed deg min sec SDDD MM SS.SSS*
SOUTH_LATITUDE 39 37 30.000 signed deg min sec SDDD MM SS.SSS*
PRODUCTION_DATE 1996 5 7 yyyy mm dd*
RASTER_ORDER LEFT_RIGHT/TOP_BOTTOM video display order*
BAND_ORGANIZATION "SINGLE FILE" single file or BSQ, or BIL or BIP*
BAND_CONTENT BLACK&WHITE black&white or red green blue*
BITS_PER_PIXEL 8 radiometric resolution*
SAMPLES_AND_LINES 6109 7591 number of columns and rows*
HORIZONTAL_DATUM NAD83 primary horizontal datum*
HORIZONTAL_COORDINATE_SYSTEM UTM *
COORDINATE_ZONE 10 coordinate system zone number*
HORIZONTAL_UNITS METERS coordinate system units*
HORIZONTAL_RESOLUTION 1.00 pixel horiz. ground sample distance*
SECONDARY_HORIZONTAL_DATUM NAD27 secondary horizontal datum*
XY_ORIGIN 451322.500 4393529.500 coord. of upper left pixel pri. datum*
SECONDARY_XY_ORIGIN 451418.067 4393332.954 coord upper left pixel sec datum*
NATION US nation code*
STATE CA state fip code*
NW_QUAD_CORNER_XY 451766.865 4393224.913 XY coords. of pri. NW quad corner*
NE_QUAD_CORNER_XY 457126.129 4393193.179 XY coords. of pri. NE quad corner*
SE_QUAD_CORNER_XY 457087.497 4386256.653 XY coords. of pri. SE quad corner*
SW_QUAD_CORNER_XY 451723.404 4386288.373 XY coords. of pri. SW quad corner*
SECONDARY_NW_QUAD_XY 451765.607 4393015.504 XY coords. - sec. NW quad cor.*
SECONDARY_NE_QUAD_XY 457125.011 4392983.769 XY coords. - sec. NE quad cor.*
SECONDARY_SE_QUAD_XY 457086.380 4386047.371 XY coords. - sec. SE quad cor.*
SECONDARY_SW_QUAD_XY 451722.147 4386079.092 XY coords. - sec. SW quad cor.*
RMSE_XY 1.90 doq horiz. accuracy*
IMAGE_SOURCE "BLACK AND WHITE FILM" b&w, cir, natural color, other*
SOURCE_IMAGE_ID "PAPP 0250 303" source image id*
SOURCE_IMAGE_DATE 1993 6 24 source image date as yyyy mm dd*
SOURCE_DEM_DATE 1996 5 7 source dem date yyyy mm dd*
AGENCY "WESTERN MAPPING CENTER (WMC)" oversight agency*
PRODUCER "Woolpert Consultants" producer/contractor*
PRODUCTION_SYSTEM "INTERGRAPH ISPM,ISIR" production system*
STANDARD_VERSION 1996 12 version of DOQ standard*
METADATA_DATE 1997 5 27 date created or changed, yyyy mm dd*
DATA_FILE_SIZE 46379528 data set size in bytes*
BYTE_COUNT 6109 header byte count* * * * * * * * * * * * * * * * * * * * * * * * * * * * * * * * * *
END_USGS_HEADER *
