BEGIN_USGS_DOQ_HEADER *
QUADRANGLE_NAME "LINCOLN RIDGE" 3.45 or 7.5-min. name*
QUADRANT NW quadrant indicator if cell size = 3.75-minutes*
WEST_LONGITUDE -123 45 0.000 signed deg min sec SDDD MM SS.SSS*
EAST_LONGITUDE -123 41 15.000 signed deg min sec SDDD MM SS.SSS*
NORTH_LATITUDE 39 45 0.000 signed deg min sec SDDD MM SS.SSS*
SOUTH_LATITUDE 39 41 15.000 signed deg min sec SDDD MM SS.SSS*
PRODUCTION_DATE 1996 5 7 yyyy mm dd*
RASTER_ORDER LEFT_RIGHT/TOP_BOTTOM video display order*
BAND_ORGANIZATION "SINGLE FILE" single file or BSQ, or BIL or BIP*
BAND_CONTENT BLACK&WHITE black&white or red green blue*
BITS_PER_PIXEL 8 radiometric resolution*
SAMPLES_AND_LINES 6119 7602 number of columns and rows*
HORIZONTAL_DATUM NAD83 primary horizontal datum*
HORIZONTAL_COORDINATE_SYSTEM UTM *
COORDINATE_ZONE 10 coordinate system zone number*
HORIZONTAL_UNITS METERS coordinate system units*
HORIZONTAL_RESOLUTION 1.00 pixel horiz. ground sample distance*
SECONDARY_HORIZONTAL_DATUM NAD27 secondary horizontal datum*
XY_ORIGIN 435287.500 4400583.500 coord. of upper left pixel pri. datum*
SECONDARY_XY_ORIGIN 435382.787 4400386.818 coord upper left pixel sec datum*
NATION US nation code*
STATE CA state fip code*
NW_QUAD_CORNER_XY 435747.030 4400279.179 XY coords. of pri. NW quad corner*
NE_QUAD_CORNER_XY 441101.493 4400236.226 XY coords. of pri. NE quad corner*
SE_QUAD_CORNER_XY 441048.303 4393299.582 XY coords. of pri. SE quad corner*
SW_QUAD_CORNER_XY 435689.003 4393342.517 XY coords. of pri. SW quad corner*
SECONDARY_NW_QUAD_XY 435745.352 4400069.646 XY coords. - sec. NW quad cor.*
SECONDARY_NE_QUAD_XY 441099.956 4400026.692 XY coords. - sec. NE quad cor.*
SECONDARY_SE_QUAD_XY 441046.766 4393090.175 XY coords. - sec. SE quad cor.*
SECONDARY_SW_QUAD_XY 435687.326 4393133.111 XY coords. - sec. SW quad cor.*
RMSE_XY 2.00 doq horiz. accuracy*
IMAGE_SOURCE "BLACK AND WHITE FILM" b&w, cir, natural color, other*
SOURCE_IMAGE_ID "PAPP 6246 717" source image id*
SOURCE_IMAGE_DATE 1993 6 12 source image date as yyyy mm dd*
IMAGE_SOURCE "BLACK AND WHITE FILM" b&w, cir, natural color, other*
SOURCE_IMAGE_ID "PAPP 6246 818" source image id*
SOURCE_IMAGE_DATE 1993 6 12 source image date as yyyy mm dd*
SOURCE_DEM_DATE 1996 5 7 source dem date yyyy mm dd*
AGENCY "WESTERN MAPPING CENTER (WMC)" oversight agency*
PRODUCER "Woolpert Consultants" producer/contractor*
PRODUCTION_SYSTEM "INTERGRAPH ISPM,ISIR" production system*
STANDARD_VERSION 1996 12 version of DOQ standard*
METADATA_DATE 1997 5 27 date created or changed, yyyy mm dd*
DATA_FILE_SIZE 46522757 data set size in bytes*
BYTE_COUNT 6119 header byte count* * * * * * * * * * * * * * * * * * * * * * * * * * * * * * *
END_USGS_HEADER *
