BEGIN_USGS_DOQ_HEADER *
QUADRANGLE_NAME "WESTPORT" 3.45 or 7.5-min. name*
QUADRANT SE quadrant indicator if cell size = 3.75-minutes*
WEST_LONGITUDE -123 48 45.000 signed deg min sec SDDD MM SS.SSS*
EAST_LONGITUDE -123 45 0.000 signed deg min sec SDDD MM SS.SSS*
NORTH_LATITUDE 39 41 15.000 signed deg min sec SDDD MM SS.SSS*
SOUTH_LATITUDE 39 37 30.000 signed deg min sec SDDD MM SS.SSS*
PRODUCTION_DATE 2000 8 10 yyyy mm dd*
RASTER_ORDER LEFT_RIGHT/TOP_BOTTOM video display order*
BAND_ORGANIZATION "SINGLE FILE" single file or BSQ, or BIL or BIP*
BAND_CONTENT BLACK&WHITE single file or BSQ, or BIL or BIP*
BITS_PER_PIXEL 8 radiometric resolution*
SAMPLES_AND_LINES 6080 7556 number of columns and rows*
HORIZONTAL_DATUM NAD83 primary horizontal datum*
HORIZONTAL_COORDINATE_SYSTEM UTM horizontal datum name*
COORDINATE_ZONE 10 coordinate system zone number*
HORIZONTAL_UNITS METERS coordinate system units*
HORIZONTAL_RESOLUTION 1.00 pixel horiz. ground sample distance*
SECONDARY_HORIZONTAL_DATUM NAD27 secondary horizontal datum*
XY_ORIGIN 429889.000 4393669.000 coord. of upper left pixel pri. datum*
SECONDARY_XY_ORIGIN 429984.235 4393472.128 coord upper left pixel sec datum*
NATION US nation code*
STATE CA state fip code*
NW_QUAD_CORNER_XY 430329.689 4393389.186 XY coords. of pri. NW quad corner*
NE_QUAD_CORNER_XY 435689.003 4393342.517 XY coords. of pri. NE quad corner*
SE_QUAD_CORNER_XY 435631.053 4386405.929 XY coords. of pri. SE quad corner*
SW_QUAD_CORNER_XY 430266.909 4386452.579 XY coords. of pri. SW quad corner*
SECONDARY_NW_QUAD_XY 430327.872 4393179.782 XY coords. - sec. NW quad cor.*
SECONDARY_NE_QUAD_XY 435687.326 4393133.111 XY coords. - sec. NE quad cor.*
SECONDARY_SE_QUAD_XY 435629.378 4386196.651 XY coords. - sec. SE quad cor.*
SECONDARY_SW_QUAD_XY 430265.094 4386243.302 XY coords. - sec. SW quad cor.*
RMSE_XY 0.10 doq horiz. accuracy*
IMAGE_SOURCE "BLACK AND WHITE FILM" b&w, cir, natural color, other*
SOURCE_IMAGE_ID "NAPP 10489 006" source image id*
SOURCE_IMAGE_DATE 1998 9 11 source image date as yyyy mm dd*
SOURCE_DEM_DATE 1994 01 01 source dem date yyyy mm dd*
AGENCY "WESTERN MAPPING CENTER (WMC)" oversight agency*
PRODUCER "EARTHDATA INTERNATIONAL" producer/contractor*
PRODUCTION_SYSTEM "SGI AUTOMETRIC" production system*
STANDARD_VERSION 1996 12 version of DOQ standard*
METADATA_DATE 2000 8 10 date created or changed, yyyy mm dd*
DATA_FILE_SIZE 45946560 data set size in bytes*
BYTE_COUNT 6080 header byte count* * * * * * * * * * * * * * * * * * * * * * * * * * * * * * * * *
END_USGS_HEADER *
