BEGIN_USGS_DOQ_HEADER *
QUADRANGLE_NAME "NEWHOUSE RIDGE" *
QUADRANT NE *
WEST_LONGITUDE -123 3 45.000 *
EAST_LONGITUDE -123 0 0.000 *
NORTH_LATITUDE 39 52 30.000 *
SOUTH_LATITUDE 39 48 45.000 *
PRODUCTION_DATE 2000 11 25 *
RASTER_ORDER LEFT_RIGHT/TOP_BOTTOM *
BAND_ORGANIZATION "SINGLE FILE" *
BAND_CONTENT BLACK&WHITE *
BITS_PER_PIXEL 8 *
SAMPLES_AND_LINES 6045 7552 *
HORIZONTAL_DATUM NAD83 *
HORIZONTAL_COORDINATE_SYSTEM UTM *
COORDINATE_ZONE 10 *
HORIZONTAL_UNITS METERS *
HORIZONTAL_RESOLUTION 1.0 *
SECONDARY_HORIZONTAL_DATUM NAD27 *
XY_ORIGIN 494255.146 4414185.460 *
SECONDARY_XY_ORIGIN 494350.843 4413989.343 *
NATION US *
STATE CA *
NW_QUAD_CORNER_XY 494655.303 4413885.460 *
NE_QUAD_CORNER_XY 500000.000 4413883.591 *
SE_QUAD_CORNER_XY 500000.000 4406946.890 *
SW_QUAD_CORNER_XY 494650.455 4406948.758 *
SECONDARY_NW_QUAD_XY 494655.166 4413675.670 *
SECONDARY_NE_QUAD_XY 500000.003 4413673.801 *
SECONDARY_SE_QUAD_XY 500000.003 4406737.225 *
SECONDARY_SW_QUAD_XY 494650.318 4406739.093 *
RMSE_XY 0.80 *
IMAGE_SOURCE "BLACK AND WHITE FILM" *
SOURCE_IMAGE_ID "NAPP 10483 12" *
SOURCE_IMAGE_DATE 1998 8 19 *
SOURCE_IMAGE_ID "NAPP 10483 11" *
SOURCE_IMAGE_DATE 1998 8 19 *
SOURCE_IMAGE_ID "NAPP 10483 13" *
SOURCE_IMAGE_DATE 1998 8 19 *
SOURCE_IMAGE_ID "NAPP 10481 11" *
SOURCE_IMAGE_DATE 1998 8 14 *
SOURCE_IMAGE_ID "NAPP 10481 12" *
SOURCE_IMAGE_DATE 1998 8 14 *
SOURCE_IMAGE_ID "NAPP 10481 13" *
SOURCE_IMAGE_DATE 1998 8 14 *
SOURCE_DEM_DATE 2000 0 0 *
AGENCY "WESTERN MAPPING CENTER (WMC)" *
PRODUCER "USDA FS GEOSPATIAL SERVICE AND TECHNOLOGY CENTER" *
PRODUCTION_SYSTEM "ORBIT OR_RECTIFY V.5.2" *
STANDARD_VERSION 1996 12 *
METADATA_DATE 2000 11 25 *
DATA_FILE_SIZE 45657885 *
BYTE_COUNT 6045 * * * * * * * * * * * * * * * * * * * * * * *
END_USGS_HEADER *
