BEGIN_USGS_DOQ_HEADER *
QUADRANGLE_NAME "NEWHOUSE RIDGE" *
QUADRANT NW *
WEST_LONGITUDE -123 7 30.000 *
EAST_LONGITUDE -123 3 45.000 *
NORTH_LATITUDE 39 52 30.000 *
SOUTH_LATITUDE 39 48 45.000 *
PRODUCTION_DATE 2000 11 25 *
RASTER_ORDER LEFT_RIGHT/TOP_BOTTOM *
BAND_ORGANIZATION "SINGLE FILE" *
BAND_CONTENT BLACK&WHITE *
BITS_PER_PIXEL 8 *
SAMPLES_AND_LINES 6050 7556 *
HORIZONTAL_DATUM NAD83 *
HORIZONTAL_COORDINATE_SYSTEM UTM *
COORDINATE_ZONE 10 *
HORIZONTAL_UNITS METERS *
HORIZONTAL_RESOLUTION 1.0 *
SECONDARY_HORIZONTAL_DATUM NAD27 *
XY_ORIGIN 488904.933 4414191.067 *
SECONDARY_XY_ORIGIN 489000.656 4413994.900 *
NATION US *
STATE CA *
NW_QUAD_CORNER_XY 489310.606 4413891.067 *
NE_QUAD_CORNER_XY 494655.303 4413885.460 *
SE_QUAD_CORNER_XY 494650.455 4406948.758 *
SW_QUAD_CORNER_XY 489300.910 4406954.363 *
SECONDARY_NW_QUAD_XY 489310.328 4413681.277 *
SECONDARY_NE_QUAD_XY 494655.166 4413675.670 *
SECONDARY_SE_QUAD_XY 494650.318 4406739.093 *
SECONDARY_SW_QUAD_XY 489300.633 4406744.698 *
RMSE_XY 0.80 *
IMAGE_SOURCE "BLACK AND WHITE FILM" *
SOURCE_IMAGE_ID "NAPP 10481 12" *
SOURCE_IMAGE_DATE 1998 8 14 *
SOURCE_IMAGE_ID "NAPP 10481 11" *
SOURCE_IMAGE_DATE 1998 8 14 *
SOURCE_IMAGE_ID "NAPP 10481 13" *
SOURCE_IMAGE_DATE 1998 8 14 *
SOURCE_IMAGE_ID "NAPP 10483 11" *
SOURCE_IMAGE_DATE 1998 8 19 *
SOURCE_IMAGE_ID "NAPP 10483 12" *
SOURCE_IMAGE_DATE 1998 8 19 *
SOURCE_IMAGE_ID "NAPP 10483 13" *
SOURCE_IMAGE_DATE 1998 8 19 *
SOURCE_DEM_DATE 2000 0 0 *
AGENCY "WESTERN MAPPING CENTER (WMC)" *
PRODUCER "USDA FS GEOSPATIAL SERVICE AND TECHNOLOGY CENTER" *
PRODUCTION_SYSTEM "ORBIT OR_RECTIFY V.5.2" *
STANDARD_VERSION 1996 12 *
METADATA_DATE 2000 11 25 *
DATA_FILE_SIZE 45719850 *
BYTE_COUNT 6050 * * * * * * * * * * * * * * * * * * * * * * *
END_USGS_HEADER *
