BEGIN_USGS_DOQ_HEADER *
QUADRANGLE_NAME "NEWHOUSE RIDGE" *
QUADRANT SE *
WEST_LONGITUDE -123 3 45.000 *
EAST_LONGITUDE -123 0 0.000 *
NORTH_LATITUDE 39 48 45.000 *
SOUTH_LATITUDE 39 45 0.000 *
PRODUCTION_DATE 2000 11 25 *
RASTER_ORDER LEFT_RIGHT/TOP_BOTTOM *
BAND_ORGANIZATION "SINGLE FILE" *
BAND_CONTENT BLACK&WHITE *
BITS_PER_PIXEL 8 *
SAMPLES_AND_LINES 6050 7552 *
HORIZONTAL_DATUM NAD83 *
HORIZONTAL_COORDINATE_SYSTEM UTM *
COORDINATE_ZONE 10 *
HORIZONTAL_UNITS METERS *
HORIZONTAL_RESOLUTION 1.0 *
SECONDARY_HORIZONTAL_DATUM NAD27 *
XY_ORIGIN 494249.827 4407248.758 *
SECONDARY_XY_ORIGIN 494345.502 4407052.685 *
NATION US *
STATE CA *
NW_QUAD_CORNER_XY 494650.455 4406948.758 *
NE_QUAD_CORNER_XY 500000.000 4406946.890 *
SE_QUAD_CORNER_XY 500000.000 4400010.264 *
SW_QUAD_CORNER_XY 494645.614 4400012.131 *
SECONDARY_NW_QUAD_XY 494650.318 4406739.093 *
SECONDARY_NE_QUAD_XY 500000.003 4406737.225 *
SECONDARY_SE_QUAD_XY 500000.003 4399800.725 *
SECONDARY_SW_QUAD_XY 494645.477 4399802.592 *
RMSE_XY 0.80 *
IMAGE_SOURCE "BLACK AND WHITE FILM" *
SOURCE_IMAGE_ID "NAPP 10483 10" *
SOURCE_IMAGE_DATE 1998 8 19 *
SOURCE_IMAGE_ID "NAPP 10483 9" *
SOURCE_IMAGE_DATE 1998 8 19 *
SOURCE_IMAGE_ID "NAPP 10483 11" *
SOURCE_IMAGE_DATE 1998 8 19 *
SOURCE_IMAGE_ID "NAPP 10481 9" *
SOURCE_IMAGE_DATE 1998 8 14 *
SOURCE_IMAGE_ID "NAPP 10481 10" *
SOURCE_IMAGE_DATE 1998 8 14 *
SOURCE_IMAGE_ID "NAPP 10481 11" *
SOURCE_IMAGE_DATE 1998 8 14 *
SOURCE_DEM_DATE 2000 0 0 *
AGENCY "WESTERN MAPPING CENTER (WMC)" *
PRODUCER "USDA FS GEOSPATIAL SERVICE AND TECHNOLOGY CENTER" *
PRODUCTION_SYSTEM "ORBIT OR_RECTIFY V.5.2" *
STANDARD_VERSION 1996 12 *
METADATA_DATE 2000 11 25 *
DATA_FILE_SIZE 45695650 *
BYTE_COUNT 6050 * * * * * * * * * * * * * * * * * * * * * * *
END_USGS_HEADER *
