BEGIN_USGS_DOQ_HEADER *
QUADRANGLE_NAME "COVELO EAST" 3.45 or 7.5-min. name*
QUADRANT NW quadrant indicator if cell size = 3.75-minutes*
WEST_LONGITUDE -123 15 0.000 signed deg min sec SDDD MM SS.SSS*
EAST_LONGITUDE -123 11 15.000 signed deg min sec SDDD MM SS.SSS*
NORTH_LATITUDE 39 52 30.000 signed deg min sec SDDD MM SS.SSS*
SOUTH_LATITUDE 39 48 45.000 signed deg min sec SDDD MM SS.SSS*
PRODUCTION_DATE 1995 4 19 yyyy mm dd*
RASTER_ORDER LEFT_RIGHT/TOP_BOTTOM video display order*
BAND_ORGANIZATION "SINGLE FILE" single file or BSQ, or BIL or BIP*
BAND_CONTENT BLACK&WHITE black&white or red green blue*
BITS_PER_PIXEL 8 radiometric resolution*
SAMPLES_AND_LINES 6060 7566 number of columns and rows*
HORIZONTAL_DATUM NAD83 primary horizontal datum*
HORIZONTAL_COORDINATE_SYSTEM UTM *
COORDINATE_ZONE 10 coordinate system zone number*
HORIZONTAL_UNITS METERS coordinate system units*
HORIZONTAL_RESOLUTION 1.00 pixel horiz. ground sample distance*
SECONDARY_HORIZONTAL_DATUM NAD27 secondary horizontal datum*
XY_ORIGIN 478205.000 4414214.000 coord. of upper left pixel pri. datum*
SECONDARY_XY_ORIGIN 478300.770 4414017.734 coord upper left pixel sec datum*
NATION US nation code*
STATE CA state fip code*
NW_QUAD_CORNER_XY 478621.202 4413913.494 XY coords. of pri. NW quad corner*
NE_QUAD_CORNER_XY 483965.906 4413900.412 XY coords. of pri. NE quad corner*
SE_QUAD_CORNER_XY 483951.362 4406963.704 XY coords. of pri. SE quad corner*
SW_QUAD_CORNER_XY 478601.810 4406976.781 XY coords. of pri. SW quad corner*
SECONDARY_NW_QUAD_XY 478620.642 4413703.704 XY coords. - sec. NW quad cor.*
SECONDARY_NE_QUAD_XY 483965.486 4413690.622 XY coords. - sec. NE quad cor.*
SECONDARY_SE_QUAD_XY 483950.942 4406754.039 XY coords. - sec. SE quad cor.*
SECONDARY_SW_QUAD_XY 478601.251 4406767.116 XY coords. - sec. SW quad cor.*
RMSE_XY 4.40 doq horiz. accuracy*
IMAGE_SOURCE "BLACK AND WHITE FILM" b&w, cir, natural color, other*
SOURCE_IMAGE_ID "PAPP 1251 989" source image id*
SOURCE_IMAGE_DATE 1993 6 1 source image date as yyyy mm dd*
SOURCE_DEM_DATE 1995 4 19 source dem date yyyy mm dd*
AGENCY "WESTERN MAPPING CENTER (WMC)" oversight agency*
PRODUCER "WMC" producer/contractor*
PRODUCTION_SYSTEM "DV2.5 10/94OV2.3 9/94" production system*
STANDARD_VERSION 1996 12 version of DOQ standard*
METADATA_DATE 1997 5 22 date created or changed, yyyy mm dd*
DATA_FILE_SIZE 45856020 data set size in bytes*
BYTE_COUNT 6060 header byte count* * * * * * * * * * * * * * * * * * * * * * * * * * * * * * * * *
END_USGS_HEADER *
