BEGIN_USGS_DOQ_HEADER *
QUADRANGLE_NAME "COVELO EAST" 3.45 or 7.5-min. name*
QUADRANT SW quadrant indicator if cell size = 3.75-minutes*
WEST_LONGITUDE -123 15 0.000 signed deg min sec SDDD MM SS.SSS*
EAST_LONGITUDE -123 11 15.000 signed deg min sec SDDD MM SS.SSS*
NORTH_LATITUDE 39 48 45.000 signed deg min sec SDDD MM SS.SSS*
SOUTH_LATITUDE 39 45 0.000 signed deg min sec SDDD MM SS.SSS*
PRODUCTION_DATE 2000 8 15 yyyy mm dd*
RASTER_ORDER LEFT_RIGHT/TOP_BOTTOM video display order*
BAND_ORGANIZATION "SINGLE FILE" single file or BSQ, or BIL or BIP*
BAND_CONTENT BLACK&WHITE single file or BSQ, or BIL or BIP*
BITS_PER_PIXEL 8 radiometric resolution*
SAMPLES_AND_LINES 6025 7524 number of columns and rows*
HORIZONTAL_DATUM NAD83 primary horizontal datum*
HORIZONTAL_COORDINATE_SYSTEM UTM horizontal datum name*
COORDINATE_ZONE 10 coordinate system zone number*
HORIZONTAL_UNITS METERS coordinate system units*
HORIZONTAL_RESOLUTION 1.00 pixel horiz. ground sample distance*
SECONDARY_HORIZONTAL_DATUM NAD27 secondary horizontal datum*
XY_ORIGIN 478206.000 4407257.000 coord. of upper left pixel pri. datum*
SECONDARY_XY_ORIGIN 478301.750 4407060.765 coord upper left pixel sec datum*
NATION US nation code*
STATE CA state fip code*
NW_QUAD_CORNER_XY 478601.810 4406976.781 XY coords. of pri. NW quad corner*
NE_QUAD_CORNER_XY 483951.362 4406963.704 XY coords. of pri. NE quad corner*
SE_QUAD_CORNER_XY 483936.837 4400027.071 XY coords. of pri. SE quad corner*
SW_QUAD_CORNER_XY 478582.444 4400040.142 XY coords. of pri. SW quad corner*
SECONDARY_NW_QUAD_XY 478601.251 4406767.116 XY coords. - sec. NW quad cor.*
SECONDARY_NE_QUAD_XY 483950.942 4406754.039 XY coords. - sec. NE quad cor.*
SECONDARY_SE_QUAD_XY 483936.417 4399817.532 XY coords. - sec. SE quad cor.*
SECONDARY_SW_QUAD_XY 478581.884 4399830.604 XY coords. - sec. SW quad cor.*
RMSE_XY 0.10 doq horiz. accuracy*
IMAGE_SOURCE "BLACK AND WHITE FILM" b&w, cir, natural color, other*
SOURCE_IMAGE_ID "NAPP 10477 223" source image id*
SOURCE_IMAGE_DATE 1998 8 12 source image date as yyyy mm dd*
SOURCE_DEM_DATE 1964 01 01 source dem date yyyy mm dd*
AGENCY "WESTERN MAPPING CENTER (WMC)" oversight agency*
PRODUCER "EARTHDATA INTERNATIONAL" producer/contractor*
PRODUCTION_SYSTEM "SGI AUTOMETRIC" production system*
STANDARD_VERSION 1996 12 version of DOQ standard*
METADATA_DATE 2000 8 15 date created or changed, yyyy mm dd*
DATA_FILE_SIZE 45338125 data set size in bytes*
BYTE_COUNT 6025 header byte count* * * * * * * * * * * * * * * * * * * * * * * * * * * * * * * * *
END_USGS_HEADER *
