BEGIN_USGS_DOQ_HEADER *
QUADRANGLE_NAME "COVELO WEST" 3.45 or 7.5-min. name*
QUADRANT SW quadrant indicator if cell size = 3.75-minutes*
WEST_LONGITUDE -123 22 30.000 signed deg min sec SDDD MM SS.SSS*
EAST_LONGITUDE -123 18 45.000 signed deg min sec SDDD MM SS.SSS*
NORTH_LATITUDE 39 48 45.000 signed deg min sec SDDD MM SS.SSS*
SOUTH_LATITUDE 39 45 0.000 signed deg min sec SDDD MM SS.SSS*
PRODUCTION_DATE 2000 8 15 yyyy mm dd*
RASTER_ORDER LEFT_RIGHT/TOP_BOTTOM video display order*
BAND_ORGANIZATION "SINGLE FILE" single file or BSQ, or BIL or BIP*
BAND_CONTENT BLACK&WHITE single file or BSQ, or BIL or BIP*
BITS_PER_PIXEL 8 radiometric resolution*
SAMPLES_AND_LINES 6035 7531 number of columns and rows*
HORIZONTAL_DATUM NAD83 primary horizontal datum*
HORIZONTAL_COORDINATE_SYSTEM UTM horizontal datum name*
COORDINATE_ZONE 10 coordinate system zone number*
HORIZONTAL_UNITS METERS coordinate system units*
HORIZONTAL_RESOLUTION 1.00 pixel horiz. ground sample distance*
SECONDARY_HORIZONTAL_DATUM NAD27 secondary horizontal datum*
XY_ORIGIN 467497.000 4407294.000 coord. of upper left pixel pri. datum*
SECONDARY_XY_ORIGIN 467592.727 4407097.689 coord upper left pixel sec datum*
NATION US nation code*
STATE CA state fip code*
NW_QUAD_CORNER_XY 467902.692 4407014.144 XY coords. of pri. NW quad corner*
NE_QUAD_CORNER_XY 473252.254 4406993.594 XY coords. of pri. NE quad corner*
SE_QUAD_CORNER_XY 473228.046 4400056.949 XY coords. of pri. SE quad corner*
SW_QUAD_CORNER_XY 467873.642 4400077.491 XY coords. of pri. SW quad corner*
SECONDARY_NW_QUAD_XY 467901.853 4406804.481 XY coords. - sec. NW quad cor.*
SECONDARY_NE_QUAD_XY 473251.555 4406783.930 XY coords. - sec. NE quad cor.*
SECONDARY_SE_QUAD_XY 473227.347 4399847.411 XY coords. - sec. SE quad cor.*
SECONDARY_SW_QUAD_XY 467872.803 4399867.953 XY coords. - sec. SW quad cor.*
RMSE_XY 0.10 doq horiz. accuracy*
IMAGE_SOURCE "BLACK AND WHITE FILM" b&w, cir, natural color, other*
SOURCE_IMAGE_ID "NAPP 10479 161" source image id*
SOURCE_IMAGE_DATE 1998 8 13 source image date as yyyy mm dd*
SOURCE_DEM_DATE 1964 01 01 source dem date yyyy mm dd*
AGENCY "WESTERN MAPPING CENTER (WMC)" oversight agency*
PRODUCER "EARTHDATA INTERNATIONAL" producer/contractor*
PRODUCTION_SYSTEM "SGI AUTOMETRIC" production system*
STANDARD_VERSION 1996 12 version of DOQ standard*
METADATA_DATE 2000 8 15 date created or changed, yyyy mm dd*
DATA_FILE_SIZE 45455620 data set size in bytes*
BYTE_COUNT 6035 header byte count* * * * * * * * * * * * * * * * * * * * * * * * * * * * * * * * *
END_USGS_HEADER *
