BEGIN_USGS_DOQ_HEADER *
QUADRANGLE_NAME "IRON PEAK" 3.45 or 7.5-min. name*
QUADRANT NW quadrant indicator if cell size = 3.75-minutes*
WEST_LONGITUDE -123 30 0.000 signed deg min sec SDDD MM SS.SSS*
EAST_LONGITUDE -123 26 15.000 signed deg min sec SDDD MM SS.SSS*
NORTH_LATITUDE 39 52 30.000 signed deg min sec SDDD MM SS.SSS*
SOUTH_LATITUDE 39 48 45.000 signed deg min sec SDDD MM SS.SSS*
PRODUCTION_DATE 1995 4 27 yyyy mm dd*
RASTER_ORDER LEFT_RIGHT/TOP_BOTTOM video display order*
BAND_ORGANIZATION "SINGLE FILE" single file or BSQ, or BIL or BIP*
BAND_CONTENT BLACK&WHITE black&white or red green blue*
BITS_PER_PIXEL 8 radiometric resolution*
SAMPLES_AND_LINES 6080 7581 number of columns and rows*
HORIZONTAL_DATUM NAD83 primary horizontal datum*
HORIZONTAL_COORDINATE_SYSTEM UTM *
COORDINATE_ZONE 10 coordinate system zone number*
HORIZONTAL_UNITS METERS coordinate system units*
HORIZONTAL_RESOLUTION 1.00 pixel horiz. ground sample distance*
SECONDARY_HORIZONTAL_DATUM NAD27 secondary horizontal datum*
XY_ORIGIN 456806.000 4414304.000 coord. of upper left pixel pri. datum*
SECONDARY_XY_ORIGIN 456901.705 4414107.612 coord upper left pixel sec datum*
NATION US nation code*
STATE CA state fip code*
NW_QUAD_CORNER_XY 457242.331 4414003.203 XY coords. of pri. NW quad corner*
NE_QUAD_CORNER_XY 462587.060 4413975.169 XY coords. of pri. NE quad corner*
SE_QUAD_CORNER_XY 462553.123 4407038.431 XY coords. of pri. SE quad corner*
SW_QUAD_CORNER_XY 457203.546 4407066.454 XY coords. of pri. SW quad corner*
SECONDARY_NW_QUAD_XY 457241.211 4413793.416 XY coords. - sec. NW quad cor.*
SECONDARY_NE_QUAD_XY 462586.080 4413765.381 XY coords. - sec. NE quad cor.*
SECONDARY_SE_QUAD_XY 462552.144 4406828.768 XY coords. - sec. SE quad cor.*
SECONDARY_SW_QUAD_XY 457202.427 4406856.792 XY coords. - sec. SW quad cor.*
RMSE_XY 2.80 doq horiz. accuracy*
IMAGE_SOURCE "BLACK AND WHITE FILM" b&w, cir, natural color, other*
SOURCE_IMAGE_ID "PAPP 0250 989" source image id*
SOURCE_IMAGE_DATE 1993 6 1 source image date as yyyy mm dd*
SOURCE_DEM_DATE 1995 4 27 source dem date yyyy mm dd*
AGENCY "WESTERN MAPPING CENTER (WMC)" oversight agency*
PRODUCER "WMC" producer/contractor*
PRODUCTION_SYSTEM "DV2.5 10/94OV2.3 9/94" production system*
STANDARD_VERSION 1996 12 version of DOQ standard*
METADATA_DATE 1997 5 22 date created or changed, yyyy mm dd*
DATA_FILE_SIZE 46098560 data set size in bytes*
BYTE_COUNT 6080 header byte count* * * * * * * * * * * * * * * * * * * * * * * * * * * * * * * * *
END_USGS_HEADER *
