BEGIN_USGS_DOQ_HEADER *
QUADRANGLE_NAME "TAN OAK PARK" 3.45 or 7.5-min. name*
QUADRANT SW quadrant indicator if cell size = 3.75-minutes*
WEST_LONGITUDE -123 37 30.000 signed deg min sec SDDD MM SS.SSS*
EAST_LONGITUDE -123 33 45.000 signed deg min sec SDDD MM SS.SSS*
NORTH_LATITUDE 39 48 45.000 signed deg min sec SDDD MM SS.SSS*
SOUTH_LATITUDE 39 45 0.000 signed deg min sec SDDD MM SS.SSS*
PRODUCTION_DATE 1996 5 7 yyyy mm dd*
RASTER_ORDER LEFT_RIGHT/TOP_BOTTOM video display order*
BAND_ORGANIZATION "SINGLE FILE" single file or BSQ, or BIL or BIP*
BAND_CONTENT BLACK&WHITE black&white or red green blue*
BITS_PER_PIXEL 8 radiometric resolution*
SAMPLES_AND_LINES 6105 7596 number of columns and rows*
HORIZONTAL_DATUM NAD83 primary horizontal datum*
HORIZONTAL_COORDINATE_SYSTEM UTM *
COORDINATE_ZONE 10 coordinate system zone number*
HORIZONTAL_UNITS METERS coordinate system units*
HORIZONTAL_RESOLUTION 1.00 pixel horiz. ground sample distance*
SECONDARY_HORIZONTAL_DATUM NAD27 secondary horizontal datum*
XY_ORIGIN 446054.500 4407438.500 coord. of upper left pixel pri. datum*
SECONDARY_XY_ORIGIN 446150.007 4407241.999 coord upper left pixel sec datum*
NATION US nation code*
STATE CA state fip code*
NW_QUAD_CORNER_XY 446504.363 4407133.710 XY coords. of pri. NW quad corner*
NE_QUAD_CORNER_XY 451853.960 4407098.214 XY coords. of pri. NE quad corner*
SE_QUAD_CORNER_XY 451810.383 4400161.526 XY coords. of pri. SE quad corner*
SW_QUAD_CORNER_XY 446455.944 4400197.008 XY coords. of pri. SW quad corner*
SECONDARY_NW_QUAD_XY 446502.964 4406924.050 XY coords. - sec. NW quad cor.*
SECONDARY_NE_QUAD_XY 451852.701 4406888.552 XY coords. - sec. NE quad cor.*
SECONDARY_SE_QUAD_XY 451809.125 4399951.991 XY coords. - sec. SE quad cor.*
SECONDARY_SW_QUAD_XY 446454.546 4399987.474 XY coords. - sec. SW quad cor.*
RMSE_XY 1.70 doq horiz. accuracy*
IMAGE_SOURCE "BLACK AND WHITE FILM" b&w, cir, natural color, other*
SOURCE_IMAGE_ID "PAPP 0250 888" source image id*
SOURCE_IMAGE_DATE 1993 6 24 source image date as yyyy mm dd*
SOURCE_DEM_DATE 1996 5 7 source dem date yyyy mm dd*
AGENCY "WESTERN MAPPING CENTER (WMC)" oversight agency*
PRODUCER "Woolpert Consultants" producer/contractor*
PRODUCTION_SYSTEM "INTERGRAPH ISPM,ISIR" production system*
STANDARD_VERSION 1996 12 version of DOQ standard*
METADATA_DATE 1997 5 27 date created or changed, yyyy mm dd*
DATA_FILE_SIZE 46379685 data set size in bytes*
BYTE_COUNT 6105 header byte count* * * * * * * * * * * * * * * * * * * * * * * * * * * * * * * * * *
END_USGS_HEADER *
