BEGIN_USGS_DOQ_HEADER *
QUADRANGLE_NAME "LEGGETT" 3.45 or 7.5-min. name*
QUADRANT NE quadrant indicator if cell size = 3.75-minutes*
WEST_LONGITUDE -123 41 15.000 signed deg min sec SDDD MM SS.SSS*
EAST_LONGITUDE -123 37 30.000 signed deg min sec SDDD MM SS.SSS*
NORTH_LATITUDE 39 52 30.000 signed deg min sec SDDD MM SS.SSS*
SOUTH_LATITUDE 39 48 45.000 signed deg min sec SDDD MM SS.SSS*
PRODUCTION_DATE 1996 5 7 yyyy mm dd*
RASTER_ORDER LEFT_RIGHT/TOP_BOTTOM video display order*
BAND_ORGANIZATION "SINGLE FILE" single file or BSQ, or BIL or BIP*
BAND_CONTENT BLACK&WHITE black&white or red green blue*
BITS_PER_PIXEL 8 radiometric resolution*
SAMPLES_AND_LINES 6105 7599 number of columns and rows*
HORIZONTAL_DATUM NAD83 primary horizontal datum*
HORIZONTAL_COORDINATE_SYSTEM UTM *
COORDINATE_ZONE 10 coordinate system zone number*
HORIZONTAL_UNITS METERS coordinate system units*
HORIZONTAL_RESOLUTION 1.00 pixel horiz. ground sample distance*
SECONDARY_HORIZONTAL_DATUM NAD27 secondary horizontal datum*
XY_ORIGIN 440753.500 4414414.500 coord. of upper left pixel pri. datum*
SECONDARY_XY_ORIGIN 440848.938 4414217.998 coord upper left pixel sec datum*
NATION US nation code*
STATE CA state fip code*
NW_QUAD_CORNER_XY 441208.086 4414109.735 XY coords. of pri. NW quad corner*
NE_QUAD_CORNER_XY 446552.845 4414070.486 XY coords. of pri. NE quad corner*
SE_QUAD_CORNER_XY 446504.363 4407133.710 XY coords. of pri. SE quad corner*
SW_QUAD_CORNER_XY 441154.754 4407172.944 XY coords. of pri. SW quad corner*
SECONDARY_NW_QUAD_XY 441206.546 4413899.951 XY coords. - sec. NW quad cor.*
SECONDARY_NE_QUAD_XY 446551.446 4413860.701 XY coords. - sec. NE quad cor.*
SECONDARY_SE_QUAD_XY 446502.964 4406924.050 XY coords. - sec. SE quad cor.*
SECONDARY_SW_QUAD_XY 441153.216 4406963.284 XY coords. - sec. SW quad cor.*
RMSE_XY 2.50 doq horiz. accuracy*
IMAGE_SOURCE "BLACK AND WHITE FILM" b&w, cir, natural color, other*
SOURCE_IMAGE_ID "PAPP 8248 363" source image id*
SOURCE_IMAGE_DATE 1993 6 13 source image date as yyyy mm dd*
IMAGE_SOURCE "BLACK AND WHITE FILM" b&w, cir, natural color, other*
SOURCE_IMAGE_ID "PAPP 8248 464" source image id*
SOURCE_IMAGE_DATE 1993 6 13 source image date as yyyy mm dd*
IMAGE_SOURCE "BLACK AND WHITE FILM" b&w, cir, natural color, other*
SOURCE_IMAGE_ID "PAPP 8248 262" source image id*
SOURCE_IMAGE_DATE 1993 6 13 source image date as yyyy mm dd*
SOURCE_DEM_DATE 1996 5 7 source dem date yyyy mm dd*
AGENCY "WESTERN MAPPING CENTER (WMC)" oversight agency*
PRODUCER "Woolpert Consultants" producer/contractor*
PRODUCTION_SYSTEM "INTERGRAPH ISPM,ISIR" production system*
STANDARD_VERSION 1996 12 version of DOQ standard*
METADATA_DATE 1997 5 27 date created or changed, yyyy mm dd*
DATA_FILE_SIZE 46398000 data set size in bytes*
BYTE_COUNT 6105 header byte count* * * * * * * * * * * * * * * * * * * * * * * * * * * *
END_USGS_HEADER *
