BEGIN_USGS_DOQ_HEADER *
QUADRANGLE_NAME "LEECH LAKE MOUNTAIN" *
QUADRANT NW *
WEST_LONGITUDE -123 7 30.000 *
EAST_LONGITUDE -123 3 45.000 *
NORTH_LATITUDE 40 0 0.000 *
SOUTH_LATITUDE 39 56 15.000 *
PRODUCTION_DATE 2000 11 25 *
RASTER_ORDER LEFT_RIGHT/TOP_BOTTOM *
BAND_ORGANIZATION "SINGLE FILE" *
BAND_CONTENT BLACK&WHITE *
BITS_PER_PIXEL 8 *
SAMPLES_AND_LINES 6041 7556 *
HORIZONTAL_DATUM NAD83 *
HORIZONTAL_COORDINATE_SYSTEM UTM *
COORDINATE_ZONE 10 *
HORIZONTAL_UNITS METERS *
HORIZONTAL_RESOLUTION 1.0 *
SECONDARY_HORIZONTAL_DATUM NAD27 *
XY_ORIGIN 488924.795 4428064.700 *
SECONDARY_XY_ORIGIN 489020.561 4427868.457 *
NATION US *
STATE CA *
NW_QUAD_CORNER_XY 489330.036 4427764.700 *
NE_QUAD_CORNER_XY 494665.019 4427759.089 *
SE_QUAD_CORNER_XY 494660.158 4420822.237 *
SW_QUAD_CORNER_XY 489320.315 4420827.846 *
SECONDARY_NW_QUAD_XY 489329.758 4427554.663 *
SECONDARY_NE_QUAD_XY 494664.881 4427549.051 *
SECONDARY_SE_QUAD_XY 494660.020 4420612.323 *
SECONDARY_SW_QUAD_XY 489320.037 4420617.932 *
RMSE_XY 0.80 *
IMAGE_SOURCE "BLACK AND WHITE FILM" *
SOURCE_IMAGE_ID "NAPP 10481 16" *
SOURCE_IMAGE_DATE 1998 8 14 *
SOURCE_IMAGE_ID "NAPP 10481 15" *
SOURCE_IMAGE_DATE 1998 8 14 *
SOURCE_IMAGE_ID "NAPP 10481 17" *
SOURCE_IMAGE_DATE 1998 8 14 *
SOURCE_IMAGE_ID "NAPP 10483 15" *
SOURCE_IMAGE_DATE 1998 8 19 *
SOURCE_IMAGE_ID "NAPP 10483 16" *
SOURCE_IMAGE_DATE 1998 8 19 *
SOURCE_IMAGE_ID "NAPP 10483 17" *
SOURCE_IMAGE_DATE 1998 8 19 *
SOURCE_DEM_DATE 2000 0 0 *
AGENCY "WESTERN MAPPING CENTER (WMC)" *
PRODUCER "USDA FS GEOSPATIAL SERVICE AND TECHNOLOGY CENTER" *
PRODUCTION_SYSTEM "ORBIT OR_RECTIFY V.5.2" *
STANDARD_VERSION 1996 12 *
METADATA_DATE 2000 11 25 *
DATA_FILE_SIZE 45651837 *
BYTE_COUNT 6041 * * * * * * * * * * * * * * * * * * * * * * *
END_USGS_HEADER *
