BEGIN_USGS_DOQ_HEADER *
QUADRANGLE_NAME "LEECH LAKE MOUNTAIN" *
QUADRANT SW *
WEST_LONGITUDE -123 7 30.000 *
EAST_LONGITUDE -123 3 45.000 *
NORTH_LATITUDE 39 56 15.000 *
SOUTH_LATITUDE 39 52 30.000 *
PRODUCTION_DATE 2000 11 25 *
RASTER_ORDER LEFT_RIGHT/TOP_BOTTOM *
BAND_ORGANIZATION "SINGLE FILE" *
BAND_CONTENT BLACK&WHITE *
BITS_PER_PIXEL 8 *
SAMPLES_AND_LINES 6046 7556 *
HORIZONTAL_DATUM NAD83 *
HORIZONTAL_COORDINATE_SYSTEM UTM *
COORDINATE_ZONE 10 *
HORIZONTAL_UNITS METERS *
HORIZONTAL_RESOLUTION 1.0 *
SECONDARY_HORIZONTAL_DATUM NAD27 *
XY_ORIGIN 488914.608 4421127.846 *
SECONDARY_XY_ORIGIN 489010.352 4420931.640 *
NATION US *
STATE CA *
NW_QUAD_CORNER_XY 489320.315 4420827.846 *
NE_QUAD_CORNER_XY 494660.158 4420822.237 *
SE_QUAD_CORNER_XY 494655.303 4413885.460 *
SW_QUAD_CORNER_XY 489310.606 4413891.067 *
SECONDARY_NW_QUAD_XY 489320.037 4420617.932 *
SECONDARY_NE_QUAD_XY 494660.020 4420612.323 *
SECONDARY_SE_QUAD_XY 494655.166 4413675.670 *
SECONDARY_SW_QUAD_XY 489310.328 4413681.277 *
RMSE_XY 0.80 *
IMAGE_SOURCE "BLACK AND WHITE FILM" *
SOURCE_IMAGE_ID "NAPP 10481 14" *
SOURCE_IMAGE_DATE 1998 8 14 *
SOURCE_IMAGE_ID "NAPP 10481 13" *
SOURCE_IMAGE_DATE 1998 8 14 *
SOURCE_IMAGE_ID "NAPP 10481 15" *
SOURCE_IMAGE_DATE 1998 8 14 *
SOURCE_IMAGE_ID "NAPP 10483 13" *
SOURCE_IMAGE_DATE 1998 8 19 *
SOURCE_IMAGE_ID "NAPP 10483 14" *
SOURCE_IMAGE_DATE 1998 8 19 *
SOURCE_IMAGE_ID "NAPP 10483 15" *
SOURCE_IMAGE_DATE 1998 8 19 *
SOURCE_DEM_DATE 2000 0 0 *
AGENCY "WESTERN MAPPING CENTER (WMC)" *
PRODUCER "USDA FS GEOSPATIAL SERVICE AND TECHNOLOGY CENTER" *
PRODUCTION_SYSTEM "ORBIT OR_RECTIFY V.5.2" *
STANDARD_VERSION 1996 12 *
METADATA_DATE 2000 11 25 *
DATA_FILE_SIZE 45689622 *
BYTE_COUNT 6046 * * * * * * * * * * * * * * * * * * * * * * *
END_USGS_HEADER *
