BEGIN_USGS_DOQ_HEADER *
QUADRANGLE_NAME "BLUENOSE RIDGE" *
QUADRANT NE *
WEST_LONGITUDE -123 11 15.000 *
EAST_LONGITUDE -123 7 30.000 *
NORTH_LATITUDE 40 0 0.000 *
SOUTH_LATITUDE 39 56 15.000 *
PRODUCTION_DATE 2000 11 25 *
RASTER_ORDER LEFT_RIGHT/TOP_BOTTOM *
BAND_ORGANIZATION "SINGLE FILE" *
BAND_CONTENT BLACK&WHITE *
BITS_PER_PIXEL 8 *
SAMPLES_AND_LINES 6046 7560 *
HORIZONTAL_DATUM NAD83 *
HORIZONTAL_COORDINATE_SYSTEM UTM *
COORDINATE_ZONE 10 *
HORIZONTAL_UNITS METERS *
HORIZONTAL_RESOLUTION 1.0 *
SECONDARY_HORIZONTAL_DATUM NAD27 *
XY_ORIGIN 483584.285 4428074.052 *
SECONDARY_XY_ORIGIN 483680.075 4427877.766 *
NATION US *
STATE CA *
NW_QUAD_CORNER_XY 483995.051 4427774.052 *
NE_QUAD_CORNER_XY 489330.036 4427764.700 *
SE_QUAD_CORNER_XY 489320.315 4420827.846 *
SW_QUAD_CORNER_XY 483980.469 4420837.194 *
SECONDARY_NW_QUAD_XY 483994.633 4427564.015 *
SECONDARY_NE_QUAD_XY 489329.758 4427554.663 *
SECONDARY_SE_QUAD_XY 489320.037 4420617.932 *
SECONDARY_SW_QUAD_XY 483980.051 4420627.280 *
RMSE_XY 0.80 *
IMAGE_SOURCE "BLACK AND WHITE FILM" *
SOURCE_IMAGE_ID "NAPP 10481 82" *
SOURCE_IMAGE_DATE 1998 8 14 *
SOURCE_IMAGE_ID "NAPP 10481 81" *
SOURCE_IMAGE_DATE 1998 8 14 *
SOURCE_IMAGE_ID "NAPP 10481 83" *
SOURCE_IMAGE_DATE 1998 8 14 *
SOURCE_IMAGE_ID "NAPP 10481 76" *
SOURCE_IMAGE_DATE 1998 8 14 *
SOURCE_IMAGE_ID "NAPP 10481 75" *
SOURCE_IMAGE_DATE 1998 8 14 *
SOURCE_IMAGE_ID "NAPP 10481 74" *
SOURCE_IMAGE_DATE 1998 8 14 *
SOURCE_DEM_DATE 2000 0 0 *
AGENCY "WESTERN MAPPING CENTER (WMC)" *
PRODUCER "USDA FS GEOSPATIAL SERVICE AND TECHNOLOGY CENTER" *
PRODUCTION_SYSTEM "ORBIT OR_RECTIFY V.5.2" *
STANDARD_VERSION 1996 12 *
METADATA_DATE 2000 11 25 *
DATA_FILE_SIZE 45713806 *
BYTE_COUNT 6046 * * * * * * * * * * * * * * * * * * * * * * *
END_USGS_HEADER *
