BEGIN_USGS_DOQ_HEADER *
QUADRANGLE_NAME "BLUENOSE RIDGE" *
QUADRANT NW *
WEST_LONGITUDE -123 15 0.000 *
EAST_LONGITUDE -123 11 15.000 *
NORTH_LATITUDE 40 0 0.000 *
SOUTH_LATITUDE 39 56 15.000 *
PRODUCTION_DATE 2000 11 25 *
RASTER_ORDER LEFT_RIGHT/TOP_BOTTOM *
BAND_ORGANIZATION "SINGLE FILE" *
BAND_CONTENT BLACK&WHITE *
BITS_PER_PIXEL 8 *
SAMPLES_AND_LINES 6051 7564 *
HORIZONTAL_DATUM NAD83 *
HORIZONTAL_COORDINATE_SYSTEM UTM *
COORDINATE_ZONE 10 *
HORIZONTAL_UNITS METERS *
HORIZONTAL_RESOLUTION 1.0 *
SECONDARY_HORIZONTAL_DATUM NAD27 *
XY_ORIGIN 478244.771 4428087.145 *
SECONDARY_XY_ORIGIN 478340.581 4427890.819 *
NATION US *
STATE CA *
NW_QUAD_CORNER_XY 478660.063 4427787.145 *
NE_QUAD_CORNER_XY 483995.051 4427774.052 *
SE_QUAD_CORNER_XY 483980.469 4420837.194 *
SW_QUAD_CORNER_XY 478640.620 4420850.282 *
SECONDARY_NW_QUAD_XY 478659.504 4427577.108 *
SECONDARY_NE_QUAD_XY 483994.633 4427564.015 *
SECONDARY_SE_QUAD_XY 483980.051 4420627.280 *
SECONDARY_SW_QUAD_XY 478640.062 4420640.369 *
RMSE_XY 0.80 *
IMAGE_SOURCE "BLACK AND WHITE FILM" *
SOURCE_IMAGE_ID "NAPP 10481 75" *
SOURCE_IMAGE_DATE 1998 8 14 *
SOURCE_IMAGE_ID "NAPP 10481 76" *
SOURCE_IMAGE_DATE 1998 8 14 *
SOURCE_IMAGE_ID "NAPP 10481 74" *
SOURCE_IMAGE_DATE 1998 8 14 *
SOURCE_IMAGE_ID "NAPP 10481 81" *
SOURCE_IMAGE_DATE 1998 8 14 *
SOURCE_IMAGE_ID "NAPP 10481 82" *
SOURCE_IMAGE_DATE 1998 8 14 *
SOURCE_IMAGE_ID "NAPP 10481 83" *
SOURCE_IMAGE_DATE 1998 8 14 *
SOURCE_DEM_DATE 2000 0 0 *
AGENCY "WESTERN MAPPING CENTER (WMC)" *
PRODUCER "USDA FS GEOSPATIAL SERVICE AND TECHNOLOGY CENTER" *
PRODUCTION_SYSTEM "ORBIT OR_RECTIFY V.5.2" *
STANDARD_VERSION 1996 12 *
METADATA_DATE 2000 11 25 *
DATA_FILE_SIZE 45775815 *
BYTE_COUNT 6051 * * * * * * * * * * * * * * * * * * * * * * *
END_USGS_HEADER *
