BEGIN_USGS_DOQ_HEADER *
QUADRANGLE_NAME "BLUENOSE RIDGE" *
QUADRANT SW *
WEST_LONGITUDE -123 15 0.000 *
EAST_LONGITUDE -123 11 15.000 *
NORTH_LATITUDE 39 56 15.000 *
SOUTH_LATITUDE 39 52 30.000 *
PRODUCTION_DATE 2000 11 25 *
RASTER_ORDER LEFT_RIGHT/TOP_BOTTOM *
BAND_ORGANIZATION "SINGLE FILE" *
BAND_CONTENT BLACK&WHITE *
BITS_PER_PIXEL 8 *
SAMPLES_AND_LINES 6056 7563 *
HORIZONTAL_DATUM NAD83 *
HORIZONTAL_COORDINATE_SYSTEM UTM *
COORDINATE_ZONE 10 *
HORIZONTAL_UNITS METERS *
HORIZONTAL_RESOLUTION 1.0 *
SECONDARY_HORIZONTAL_DATUM NAD27 *
XY_ORIGIN 478224.873 4421149.782 *
SECONDARY_XY_ORIGIN 478320.663 4420953.486 *
NATION US *
STATE CA *
NW_QUAD_CORNER_XY 478640.620 4420850.282 *
NE_QUAD_CORNER_XY 483980.469 4420837.194 *
SE_QUAD_CORNER_XY 483965.906 4413900.411 *
SW_QUAD_CORNER_XY 478621.202 4413913.494 *
SECONDARY_NW_QUAD_XY 478640.062 4420640.369 *
SECONDARY_NE_QUAD_XY 483980.051 4420627.280 *
SECONDARY_SE_QUAD_XY 483965.488 4413690.622 *
SECONDARY_SW_QUAD_XY 478620.644 4413703.705 *
RMSE_XY 0.80 *
IMAGE_SOURCE "BLACK AND WHITE FILM" *
SOURCE_IMAGE_ID "NAPP 10481 77" *
SOURCE_IMAGE_DATE 1998 8 14 *
SOURCE_IMAGE_ID "NAPP 10481 78" *
SOURCE_IMAGE_DATE 1998 8 14 *
SOURCE_IMAGE_ID "NAPP 10481 76" *
SOURCE_IMAGE_DATE 1998 8 14 *
SOURCE_IMAGE_ID "NAPP 10481 79" *
SOURCE_IMAGE_DATE 1998 8 14 *
SOURCE_IMAGE_ID "NAPP 10481 80" *
SOURCE_IMAGE_DATE 1998 8 14 *
SOURCE_IMAGE_ID "NAPP 10481 81" *
SOURCE_IMAGE_DATE 1998 8 14 *
SOURCE_DEM_DATE 2000 0 0 *
AGENCY "WESTERN MAPPING CENTER (WMC)" *
PRODUCER "USDA FS GEOSPATIAL SERVICE AND TECHNOLOGY CENTER" *
PRODUCTION_SYSTEM "ORBIT OR_RECTIFY V.5.2" *
STANDARD_VERSION 1996 12 *
METADATA_DATE 2000 11 25 *
DATA_FILE_SIZE 45807584 *
BYTE_COUNT 6056 * * * * * * * * * * * * * * * * * * * * * * *
END_USGS_HEADER *
