BEGIN_USGS_DOQ_HEADER *
QUADRANGLE_NAME "MINA" 3.45 or 7.5-min. name*
QUADRANT SE quadrant indicator if cell size = 3.75-minutes*
WEST_LONGITUDE -123 18 45.000 signed deg min sec SDDD MM SS.SSS*
EAST_LONGITUDE -123 15 0.000 signed deg min sec SDDD MM SS.SSS*
NORTH_LATITUDE 39 56 15.000 signed deg min sec SDDD MM SS.SSS*
SOUTH_LATITUDE 39 52 30.000 signed deg min sec SDDD MM SS.SSS*
PRODUCTION_DATE 1995 4 18 yyyy mm dd*
RASTER_ORDER LEFT_RIGHT/TOP_BOTTOM video display order*
BAND_ORGANIZATION "SINGLE FILE" single file or BSQ, or BIL or BIP*
BAND_CONTENT BLACK&WHITE black&white or red green blue*
BITS_PER_PIXEL 8 radiometric resolution*
SAMPLES_AND_LINES 6064 7570 number of columns and rows*
HORIZONTAL_DATUM NAD83 primary horizontal datum*
HORIZONTAL_COORDINATE_SYSTEM UTM *
COORDINATE_ZONE 10 coordinate system zone number*
HORIZONTAL_UNITS METERS coordinate system units*
HORIZONTAL_RESOLUTION 1.00 pixel horiz. ground sample distance*
SECONDARY_HORIZONTAL_DATUM NAD27 secondary horizontal datum*
XY_ORIGIN 472879.000 4421168.000 coord. of upper left pixel pri. datum*
SECONDARY_XY_ORIGIN 472974.770 4420971.681 coord upper left pixel sec datum*
NATION US nation code*
STATE CA state fip code*
NW_QUAD_CORNER_XY 473300.767 4420867.109 XY coords. of pri. NW quad corner*
NE_QUAD_CORNER_XY 478640.620 4420850.282 XY coords. of pri. NE quad corner*
SE_QUAD_CORNER_XY 478621.202 4413913.494 XY coords. of pri. SE quad corner*
SW_QUAD_CORNER_XY 473276.494 4413930.314 XY coords. of pri. SW quad corner*
SECONDARY_NW_QUAD_XY 473300.066 4420657.195 XY coords. - sec. NW quad cor.*
SECONDARY_NE_QUAD_XY 478640.060 4420640.368 XY coords. - sec. NE quad cor.*
SECONDARY_SE_QUAD_XY 478620.642 4413703.704 XY coords. - sec. SE quad cor.*
SECONDARY_SW_QUAD_XY 473275.794 4413720.525 XY coords. - sec. SW quad cor.*
RMSE_XY 1.50 doq horiz. accuracy*
IMAGE_SOURCE "BLACK AND WHITE FILM" b&w, cir, natural color, other*
SOURCE_IMAGE_ID "PAPP 1251 323" source image id*
SOURCE_IMAGE_DATE 1993 6 1 source image date as yyyy mm dd*
SOURCE_DEM_DATE 1995 4 18 source dem date yyyy mm dd*
AGENCY "WESTERN MAPPING CENTER (WMC)" oversight agency*
PRODUCER "WMC" producer/contractor*
PRODUCTION_SYSTEM "DV2.5 10/94OV2.3 9/94" production system*
STANDARD_VERSION 1996 12 version of DOQ standard*
METADATA_DATE 1997 5 22 date created or changed, yyyy mm dd*
DATA_FILE_SIZE 45910544 data set size in bytes*
BYTE_COUNT 6064 header byte count* * * * * * * * * * * * * * * * * * * * * * * * * * * * * * * * *
END_USGS_HEADER *
