BEGIN_USGS_DOQ_HEADER *
QUADRANGLE_NAME "BELL SPRINGS" 3.45 or 7.5-min. name*
QUADRANT NE quadrant indicator if cell size = 3.75-minutes*
WEST_LONGITUDE -123 33 45.000 signed deg min sec SDDD MM SS.SSS*
EAST_LONGITUDE -123 30 0.000 signed deg min sec SDDD MM SS.SSS*
NORTH_LATITUDE 40 0 0.000 signed deg min sec SDDD MM SS.SSS*
SOUTH_LATITUDE 39 56 15.000 signed deg min sec SDDD MM SS.SSS*
PRODUCTION_DATE 1996 5 7 yyyy mm dd*
RASTER_ORDER LEFT_RIGHT/TOP_BOTTOM video display order*
BAND_ORGANIZATION "SINGLE FILE" single file or BSQ, or BIL or BIP*
BAND_CONTENT BLACK&WHITE black&white or red green blue*
BITS_PER_PIXEL 8 radiometric resolution*
SAMPLES_AND_LINES 6086 7593 number of columns and rows*
HORIZONTAL_DATUM NAD83 primary horizontal datum*
HORIZONTAL_COORDINATE_SYSTEM UTM *
COORDINATE_ZONE 10 coordinate system zone number*
HORIZONTAL_UNITS METERS coordinate system units*
HORIZONTAL_RESOLUTION 1.00 pixel horiz. ground sample distance*
SECONDARY_HORIZONTAL_DATUM NAD27 secondary horizontal datum*
XY_ORIGIN 451539.500 4428213.500 coord. of upper left pixel pri. datum*
SECONDARY_XY_ORIGIN 451635.143 4428017.113 coord upper left pixel sec datum*
NATION US nation code*
STATE CA state fip code*
NW_QUAD_CORNER_XY 451985.033 4427908.722 XY coords. of pri. NW quad corner*
NE_QUAD_CORNER_XY 457320.055 4427876.924 XY coords. of pri. NE quad corner*
SE_QUAD_CORNER_XY 457281.168 4420940.026 XY coords. of pri. SE quad corner*
SW_QUAD_CORNER_XY 451941.285 4420971.811 XY coords. of pri. SW quad corner*
SECONDARY_NW_QUAD_XY 451983.772 4427698.688 XY coords. - sec. NW quad cor.*
SECONDARY_NE_QUAD_XY 457318.934 4427666.889 XY coords. - sec. NE quad cor.*
SECONDARY_SE_QUAD_XY 457280.047 4420730.115 XY coords. - sec. SE quad cor.*
SECONDARY_SW_QUAD_XY 451940.024 4420761.901 XY coords. - sec. SW quad cor.*
RMSE_XY 1.60 doq horiz. accuracy*
IMAGE_SOURCE "BLACK AND WHITE FILM" b&w, cir, natural color, other*
SOURCE_IMAGE_ID "PAPP 0250 313" source image id*
SOURCE_IMAGE_DATE 1993 6 24 source image date as yyyy mm dd*
SOURCE_DEM_DATE 1996 5 7 source dem date yyyy mm dd*
AGENCY "WESTERN MAPPING CENTER (WMC)" oversight agency*
PRODUCER "Woolpert Consultants" producer/contractor*
PRODUCTION_SYSTEM "INTERGRAPH ISPM,ISIR" production system*
STANDARD_VERSION 1996 12 version of DOQ standard*
METADATA_DATE 1997 5 27 date created or changed, yyyy mm dd*
DATA_FILE_SIZE 46217084 data set size in bytes*
BYTE_COUNT 6086 header byte count* * * * * * * * * * * * * * * * * * * * * * * * * * * * * * * * * *
END_USGS_HEADER *
