BEGIN_USGS_DOQ_HEADER *
QUADRANGLE_NAME "BEAR HARBOR" 3.45 or 7.5-min. name*
QUADRANT SE quadrant indicator if cell size = 3.75-minutes*
WEST_LONGITUDE -123 56 15.000 signed deg min sec SDDD MM SS.SSS*
EAST_LONGITUDE -123 52 30.000 signed deg min sec SDDD MM SS.SSS*
NORTH_LATITUDE 39 56 15.000 signed deg min sec SDDD MM SS.SSS*
SOUTH_LATITUDE 39 52 30.000 signed deg min sec SDDD MM SS.SSS*
PRODUCTION_DATE 1996 5 6 yyyy mm dd*
RASTER_ORDER LEFT_RIGHT/TOP_BOTTOM video display order*
BAND_ORGANIZATION "SINGLE FILE" single file or BSQ, or BIL or BIP*
BAND_CONTENT BLACK&WHITE black&white or red green blue*
BITS_PER_PIXEL 8 radiometric resolution*
SAMPLES_AND_LINES 6120 7614 number of columns and rows*
HORIZONTAL_DATUM NAD83 primary horizontal datum*
HORIZONTAL_COORDINATE_SYSTEM UTM *
COORDINATE_ZONE 10 coordinate system zone number*
HORIZONTAL_UNITS METERS coordinate system units*
HORIZONTAL_RESOLUTION 1.00 pixel horiz. ground sample distance*
SECONDARY_HORIZONTAL_DATUM NAD27 secondary horizontal datum*
XY_ORIGIN 419427.500 4421545.500 coord. of upper left pixel pri. datum*
SECONDARY_XY_ORIGIN 419522.647 4421349.078 coord upper left pixel sec datum*
NATION US nation code*
STATE CA state fip code*
NW_QUAD_CORNER_XY 419901.734 4421241.060 XY coords. of pri. NW quad corner*
NE_QUAD_CORNER_XY 425241.695 4421186.835 XY coords. of pri. NE quad corner*
SE_QUAD_CORNER_XY 425173.727 4414249.914 XY coords. of pri. SE quad corner*
SW_QUAD_CORNER_XY 419828.910 4414304.118 XY coords. of pri. SW quad corner*
SECONDARY_NW_QUAD_XY 419899.633 4421031.157 XY coords. - sec. NW quad cor.*
SECONDARY_NE_QUAD_XY 425239.734 4420976.930 XY coords. - sec. NE quad cor.*
SECONDARY_SE_QUAD_XY 425171.767 4414040.133 XY coords. - sec. SE quad cor.*
SECONDARY_SW_QUAD_XY 419826.810 4414094.338 XY coords. - sec. SW quad cor.*
RMSE_XY 2.90 doq horiz. accuracy*
IMAGE_SOURCE "BLACK AND WHITE FILM" b&w, cir, natural color, other*
SOURCE_IMAGE_ID "NAPP 6248 148" source image id*
SOURCE_IMAGE_DATE 1993 6 13 source image date as yyyy mm dd*
IMAGE_SOURCE "BLACK AND WHITE FILM" b&w, cir, natural color, other*
SOURCE_IMAGE_ID "NAPP 6248 147" source image id*
SOURCE_IMAGE_DATE 1993 6 13 source image date as yyyy mm dd*
IMAGE_SOURCE "BLACK AND WHITE FILM" b&w, cir, natural color, other*
SOURCE_IMAGE_ID "NAPP 6248 149" source image id*
SOURCE_IMAGE_DATE 1993 6 13 source image date as yyyy mm dd*
SOURCE_DEM_DATE 1996 5 6 source dem date yyyy mm dd*
AGENCY "WESTERN MAPPING CENTER (WMC)" oversight agency*
PRODUCER "Woolpert Consultants" producer/contractor*
PRODUCTION_SYSTEM "INTERGRAPH ISPM,ISIR" production system*
STANDARD_VERSION 1996 12 version of DOQ standard*
METADATA_DATE 1997 7 19 date created or changed, yyyy mm dd*
DATA_FILE_SIZE 46603800 data set size in bytes*
BYTE_COUNT 6120 header byte count* * * * * * * * * * * * * * * * * * * * * * * * * * * *
END_USGS_HEADER *
