BEGIN_USGS_DOQ_HEADER *
QUADRANGLE_NAME "SPANISH FLAT" 3.45 or 7.5-min. name*
QUADRANT SE quadrant indicator if cell size = 3.75-minutes*
WEST_LONGITUDE -119 48 45.000 signed deg min sec SDDD MM SS.SSS*
EAST_LONGITUDE -119 45 0.000 signed deg min sec SDDD MM SS.SSS*
NORTH_LATITUDE 40 3 45.000 signed deg min sec SDDD MM SS.SSS*
SOUTH_LATITUDE 40 0 0.000 signed deg min sec SDDD MM SS.SSS*
PRODUCTION_DATE 1999 11 23 yyyy mm dd*
RASTER_ORDER LEFT_RIGHT/TOP_BOTTOM video display order*
BAND_ORGANIZATION "SINGLE FILE" single file or BSQ, or BIL or BIP*
BAND_CONTENT BLACK&WHITE black&white or red green blue*
BITS_PER_PIXEL 8 radiometric resolution*
SAMPLES_AND_LINES 6242 7716 number of columns and rows*
HORIZONTAL_DATUM NAD83 primary horizontal datum*
HORIZONTAL_COORDINATE_SYSTEM UTM *
COORDINATE_ZONE 11 coordinate system zone number*
HORIZONTAL_UNITS METERS coordinate system units*
HORIZONTAL_RESOLUTION 1.00 pixel horiz. ground sample distance*
SECONDARY_HORIZONTAL_DATUM NAD27 secondary horizontal datum*
XY_ORIGIN 259519.000 4438786.000 coord. of upper left pixel pri. datum*
SECONDARY_XY_ORIGIN 259600.853 4438583.624 coord upper left pixel sec datum*
NATION US nation code*
STATE NV state fip code*
NW_QUAD_CORNER_XY 260128.154 4438485.037 XY coords. of pri. NW quad corner*
NE_QUAD_CORNER_XY 265459.356 4438318.344 XY coords. of pri. NE quad corner*
SE_QUAD_CORNER_XY 265244.993 4431380.024 XY coords. of pri. SE quad corner*
SW_QUAD_CORNER_XY 259908.909 4431546.653 XY coords. of pri. SW quad corner*
SECONDARY_NW_QUAD_XY 260121.840 4438274.976 XY coords. - sec. NW quad cor.*
SECONDARY_NE_QUAD_XY 265453.183 4438108.278 XY coords. - sec. NE quad cor.*
SECONDARY_SE_QUAD_XY 265238.824 4431170.081 XY coords. - sec. SE quad cor.*
SECONDARY_SW_QUAD_XY 259902.599 4431336.715 XY coords. - sec. SW quad cor.*
RMSE_XY 3.40 doq horiz. accuracy*
IMAGE_SOURCE "BLACK AND WHITE FILM" b&w, cir, natural color, other*
SOURCE_IMAGE_ID "NAPP 7385 155" source image id*
SOURCE_IMAGE_DATE 1994 06 21 source image date as yyyy mm dd*
IMAGE_SOURCE "BLACK AND WHITE FILM" b&w, cir, natural color, other*
SOURCE_IMAGE_ID "NAPP 7377 255" source image id*
SOURCE_IMAGE_DATE 1994 06 18 source image date as yyyy mm dd*
IMAGE_SOURCE "BLACK AND WHITE FILM" b&w, cir, natural color, other*
SOURCE_IMAGE_ID "NAPP 7385 154" source image id*
SOURCE_IMAGE_DATE 1994 06 21 source image date as yyyy mm dd*
IMAGE_SOURCE "BLACK AND WHITE FILM" b&w, cir, natural color, other*
SOURCE_IMAGE_ID "NAPP 7385 156" source image id*
SOURCE_IMAGE_DATE 1994 06 21 source image date as yyyy mm dd*
SOURCE_DEM_DATE 1998 00 00 source dem date yyyy mm dd*
AGENCY "WESTERN MAPPING CENTER (WMC)" oversight agency*
PRODUCER "SCIENCE APPLICATIONS INTERNATIONAL" producer/contractor*
PRODUCTION_SYSTEM "GIS/MAGIC" production system*
STANDARD_VERSION 1996 12 version of DOQ standard*
METADATA_DATE 1999 12 14 date created or changed, yyyy mm dd*
DATA_FILE_SIZE 48169514 data set size in bytes*
BYTE_COUNT 6242 header byte count* * * * * * * * * * * * * * * * * * * * * * * * * * *
END_USGS_HEADER *
