BEGIN_USGS_DOQ_HEADER *
QUADRANGLE_NAME "RED ROCK CANYON" 3.45 or 7.5-min. name*
QUADRANT SW quadrant indicator if cell size = 3.75-minutes*
WEST_LONGITUDE -120 0 0.000 signed deg min sec SDDD MM SS.SSS*
EAST_LONGITUDE -119 56 15.000 signed deg min sec SDDD MM SS.SSS*
NORTH_LATITUDE 40 26 15.000 signed deg min sec SDDD MM SS.SSS*
SOUTH_LATITUDE 40 22 30.000 signed deg min sec SDDD MM SS.SSS*
PRODUCTION_DATE 1999 12 1 yyyy mm dd*
RASTER_ORDER LEFT_RIGHT/TOP_BOTTOM video display order*
BAND_ORGANIZATION "SINGLE FILE" single file or BSQ, or BIL or BIP*
BAND_CONTENT BLACK&WHITE black&white or red green blue*
BITS_PER_PIXEL 8 radiometric resolution*
SAMPLES_AND_LINES 6229 7728 number of columns and rows*
HORIZONTAL_DATUM NAD83 primary horizontal datum*
HORIZONTAL_COORDINATE_SYSTEM UTM *
COORDINATE_ZONE 11 coordinate system zone number*
HORIZONTAL_UNITS METERS coordinate system units*
HORIZONTAL_RESOLUTION 1.00 pixel horiz. ground sample distance*
SECONDARY_HORIZONTAL_DATUM NAD27 secondary horizontal datum*
XY_ORIGIN 244918.000 4480941.000 coord. of upper left pixel pri. datum*
SECONDARY_XY_ORIGIN 244999.900 4480738.051 coord upper left pixel sec datum*
NATION US nation code*
STATE NV state fip code*
STATE CA state fip code*
NW_QUAD_CORNER_XY 245544.014 4480640.289 XY coords. of pri. NW quad corner*
NE_QUAD_CORNER_XY 250845.932 4480461.942 XY coords. of pri. NE quad corner*
SE_QUAD_CORNER_XY 250615.131 4473523.094 XY coords. of pri. SE quad corner*
SW_QUAD_CORNER_XY 245308.291 4473701.377 XY coords. of pri. SW quad corner*
SECONDARY_NW_QUAD_XY 245537.255 4480429.525 XY coords. - sec. NW quad cor.*
SECONDARY_NE_QUAD_XY 250839.314 4480251.173 XY coords. - sec. NE quad cor.*
SECONDARY_SE_QUAD_XY 250608.517 4473312.442 XY coords. - sec. SE quad cor.*
SECONDARY_SW_QUAD_XY 245301.537 4473490.731 XY coords. - sec. SW quad cor.*
RMSE_XY 1.70 doq horiz. accuracy*
IMAGE_SOURCE "BLACK AND WHITE FILM" b&w, cir, natural color, other*
SOURCE_IMAGE_ID "NAPP 6202 133" source image id*
SOURCE_IMAGE_DATE 1993 07 08 source image date as yyyy mm dd*
SOURCE_DEM_DATE 1997 01 01 source dem date yyyy mm dd*
AGENCY "WESTERN MAPPING CENTER (WMC)" oversight agency*
PRODUCER "SCIENCE APPLICATIONS INTERNATIONAL" producer/contractor*
PRODUCTION_SYSTEM "GIS/MAGIC" production system*
STANDARD_VERSION 1996 12 version of DOQ standard*
METADATA_DATE 1999 12 14 date created or changed, yyyy mm dd*
DATA_FILE_SIZE 48143941 data set size in bytes*
BYTE_COUNT 6229 header byte count* * * * * * * * * * * * * * * * * * * * * * * * * * * * * * * * * *
END_USGS_HEADER *
