BEGIN_USGS_DOQ_HEADER *
QUADRANGLE_NAME "SALT MARSH" 3.45 or 7.5-min. name*
QUADRANT SE quadrant indicator if cell size = 3.75-minutes*
WEST_LONGITUDE -119 48 45.000 signed deg min sec SDDD MM SS.SSS*
EAST_LONGITUDE -119 45 0.000 signed deg min sec SDDD MM SS.SSS*
NORTH_LATITUDE 40 33 45.000 signed deg min sec SDDD MM SS.SSS*
SOUTH_LATITUDE 40 30 0.000 signed deg min sec SDDD MM SS.SSS*
PRODUCTION_DATE 1999 12 3 yyyy mm dd*
RASTER_ORDER LEFT_RIGHT/TOP_BOTTOM video display order*
BAND_ORGANIZATION "SINGLE FILE" single file or BSQ, or BIL or BIP*
BAND_CONTENT BLACK&WHITE black&white or red green blue*
BITS_PER_PIXEL 8 radiometric resolution*
SAMPLES_AND_LINES 6205 7717 number of columns and rows*
HORIZONTAL_DATUM NAD83 primary horizontal datum*
HORIZONTAL_COORDINATE_SYSTEM UTM *
COORDINATE_ZONE 11 coordinate system zone number*
HORIZONTAL_UNITS METERS coordinate system units*
HORIZONTAL_RESOLUTION 1.00 pixel horiz. ground sample distance*
SECONDARY_HORIZONTAL_DATUM NAD27 secondary horizontal datum*
XY_ORIGIN 261281.000 4494295.000 coord. of upper left pixel pri. datum*
SECONDARY_XY_ORIGIN 261362.662 4494092.079 coord upper left pixel sec datum*
NATION US nation code*
STATE NV state fip code*
NW_QUAD_CORNER_XY 261892.400 4493994.161 XY coords. of pri. NW quad corner*
NE_QUAD_CORNER_XY 267184.320 4493826.985 XY coords. of pri. NE quad corner*
SE_QUAD_CORNER_XY 266967.724 4486888.202 XY coords. of pri. SE quad corner*
SW_QUAD_CORNER_XY 261670.871 4487055.320 XY coords. of pri. SW quad corner*
SECONDARY_NW_QUAD_XY 261886.056 4493783.150 XY coords. - sec. NW quad cor.*
SECONDARY_NE_QUAD_XY 267178.118 4493615.970 XY coords. - sec. NE quad cor.*
SECONDARY_SE_QUAD_XY 266961.526 4486677.303 XY coords. - sec. SE quad cor.*
SECONDARY_SW_QUAD_XY 261664.532 4486844.426 XY coords. - sec. SW quad cor.*
RMSE_XY 0.60 doq horiz. accuracy*
IMAGE_SOURCE "BLACK AND WHITE FILM" b&w, cir, natural color, other*
SOURCE_IMAGE_ID "NAPP 7377 145" source image id*
SOURCE_IMAGE_DATE 1994 06 18 source image date as yyyy mm dd*
IMAGE_SOURCE "BLACK AND WHITE FILM" b&w, cir, natural color, other*
SOURCE_IMAGE_ID "NAPP 7377 240" source image id*
SOURCE_IMAGE_DATE 1994 06 18 source image date as yyyy mm dd*
IMAGE_SOURCE "BLACK AND WHITE FILM" b&w, cir, natural color, other*
SOURCE_IMAGE_ID "NAPP 7377 147" source image id*
SOURCE_IMAGE_DATE 1994 06 18 source image date as yyyy mm dd*
IMAGE_SOURCE "BLACK AND WHITE FILM" b&w, cir, natural color, other*
SOURCE_IMAGE_ID "NAPP 7377 134" source image id*
SOURCE_IMAGE_DATE 1994 06 18 source image date as yyyy mm dd*
SOURCE_DEM_DATE 1980 00 00 source dem date yyyy mm dd*
AGENCY "WESTERN MAPPING CENTER (WMC)" oversight agency*
PRODUCER "SCIENCE APPLICATIONS INTERNATIONAL" producer/contractor*
PRODUCTION_SYSTEM "GIS/MAGIC" production system*
STANDARD_VERSION 1996 12 version of DOQ standard*
METADATA_DATE 1999 12 13 date created or changed, yyyy mm dd*
DATA_FILE_SIZE 47890190 data set size in bytes*
BYTE_COUNT 6205 header byte count* * * * * * * * * * * * * * * * * * * * * * * * * *
END_USGS_HEADER *
