BEGIN_USGS_DOQ_HEADER *
QUADRANGLE_NAME "SMOKE CREEK RANCH" 3.45 or 7.5-min. name*
QUADRANT NE quadrant indicator if cell size = 3.75-minutes*
WEST_LONGITUDE -119 56 15.000 signed deg min sec SDDD MM SS.SSS*
EAST_LONGITUDE -119 52 30.000 signed deg min sec SDDD MM SS.SSS*
NORTH_LATITUDE 40 37 30.000 signed deg min sec SDDD MM SS.SSS*
SOUTH_LATITUDE 40 33 45.000 signed deg min sec SDDD MM SS.SSS*
PRODUCTION_DATE 1999 12 7 yyyy mm dd*
RASTER_ORDER LEFT_RIGHT/TOP_BOTTOM video display order*
BAND_ORGANIZATION "SINGLE FILE" single file or BSQ, or BIL or BIP*
BAND_CONTENT BLACK&WHITE black&white or red green blue*
BITS_PER_PIXEL 8 radiometric resolution*
SAMPLES_AND_LINES 6210 7724 number of columns and rows*
HORIZONTAL_DATUM NAD83 primary horizontal datum*
HORIZONTAL_COORDINATE_SYSTEM UTM *
COORDINATE_ZONE 11 coordinate system zone number*
HORIZONTAL_UNITS METERS coordinate system units*
HORIZONTAL_RESOLUTION 1.00 pixel horiz. ground sample distance*
SECONDARY_HORIZONTAL_DATUM NAD27 secondary horizontal datum*
XY_ORIGIN 250919.000 4501579.000 coord. of upper left pixel pri. datum*
SECONDARY_XY_ORIGIN 251000.678 4501375.950 coord upper left pixel sec datum*
NATION US nation code*
STATE NV state fip code*
NW_QUAD_CORNER_XY 251540.118 4501278.820 XY coords. of pri. NW quad corner*
NE_QUAD_CORNER_XY 256827.187 4501104.056 XY coords. of pri. NE quad corner*
SE_QUAD_CORNER_XY 256600.435 4494165.101 XY coords. of pri. SE quad corner*
SW_QUAD_CORNER_XY 251308.425 4494339.805 XY coords. of pri. SW quad corner*
SECONDARY_NW_QUAD_XY 251533.488 4501067.704 XY coords. - sec. NW quad cor.*
SECONDARY_NE_QUAD_XY 256820.699 4500892.936 XY coords. - sec. NE quad cor.*
SECONDARY_SE_QUAD_XY 256593.951 4493954.095 XY coords. - sec. SE quad cor.*
SECONDARY_SW_QUAD_XY 251301.800 4494128.804 XY coords. - sec. SW quad cor.*
RMSE_XY 3.10 doq horiz. accuracy*
IMAGE_SOURCE "BLACK AND WHITE FILM" b&w, cir, natural color, other*
SOURCE_IMAGE_ID "NAPP 6202 036" source image id*
SOURCE_IMAGE_DATE 1993 07 08 source image date as yyyy mm dd*
IMAGE_SOURCE "BLACK AND WHITE FILM" b&w, cir, natural color, other*
SOURCE_IMAGE_ID "NAPP 6202 127" source image id*
SOURCE_IMAGE_DATE 1993 07 08 source image date as yyyy mm dd*
IMAGE_SOURCE "BLACK AND WHITE FILM" b&w, cir, natural color, other*
SOURCE_IMAGE_ID "NAPP 6202 125" source image id*
SOURCE_IMAGE_DATE 1993 07 08 source image date as yyyy mm dd*
IMAGE_SOURCE "BLACK AND WHITE FILM" b&w, cir, natural color, other*
SOURCE_IMAGE_ID "NAPP 6202 037" source image id*
SOURCE_IMAGE_DATE 1993 07 08 source image date as yyyy mm dd*
SOURCE_DEM_DATE 1980 00 00 source dem date yyyy mm dd*
AGENCY "WESTERN MAPPING CENTER (WMC)" oversight agency*
PRODUCER "SCIENCE APPLICATIONS INTERNATIONAL" producer/contractor*
PRODUCTION_SYSTEM "GIS/MAGIC" production system*
STANDARD_VERSION 1996 12 version of DOQ standard*
METADATA_DATE 1999 12 14 date created or changed, yyyy mm dd*
DATA_FILE_SIZE 47972250 data set size in bytes*
BYTE_COUNT 6210 header byte count* * * * * * * * * * * * * * * * * * * * * * * * * *
END_USGS_HEADER *
