BEGIN_USGS_DOQ_HEADER *
QUADRANGLE_NAME "EDDIES GARDEN" 3.45 or 7.5-min. name*
QUADRANT NE quadrant indicator if cell size = 3.75-minutes*
WEST_LONGITUDE -119 48 45.000 signed deg min sec SDDD MM SS.SSS*
EAST_LONGITUDE -119 45 0.000 signed deg min sec SDDD MM SS.SSS*
NORTH_LATITUDE 40 52 30.000 signed deg min sec SDDD MM SS.SSS*
SOUTH_LATITUDE 40 48 45.000 signed deg min sec SDDD MM SS.SSS*
PRODUCTION_DATE 1998 5 11 yyyy mm dd*
RASTER_ORDER LEFT_RIGHT/TOP_BOTTOM video display order*
BAND_ORGANIZATION "SINGLE FILE" single file or BSQ, or BIL or BIP*
BAND_CONTENT BLACK&WHITE black&white or red green blue*
BITS_PER_PIXEL 8 radiometric resolution*
SAMPLES_AND_LINES 6181 7718 number of columns and rows*
HORIZONTAL_DATUM NAD83 primary horizontal datum*
HORIZONTAL_COORDINATE_SYSTEM UTM *
COORDINATE_ZONE 11 coordinate system zone number*
HORIZONTAL_UNITS METERS coordinate system units*
HORIZONTAL_RESOLUTION 1.00 pixel horiz. ground sample distance*
SECONDARY_HORIZONTAL_DATUM NAD27 secondary horizontal datum*
XY_ORIGIN 262392.000 4528990.000 coord. of upper left pixel pri. datum*
SECONDARY_XY_ORIGIN 262473.271 4528786.831 coord upper left pixel sec datum*
NATION US nation code*
STATE NV state fip code*
NW_QUAD_CORNER_XY 263004.302 4528689.222 XY coords. of pri. NW quad corner*
NE_QUAD_CORNER_XY 268271.467 4528521.771 XY coords. of pri. NE quad corner*
SE_QUAD_CORNER_XY 268053.483 4521582.698 XY coords. of pri. SE quad corner*
SW_QUAD_CORNER_XY 262781.355 4521750.095 XY coords. of pri. SW quad corner*
SECONDARY_NW_QUAD_XY 262997.941 4528477.645 XY coords. - sec. NW quad cor.*
SECONDARY_NE_QUAD_XY 268265.247 4528310.190 XY coords. - sec. NE quad cor.*
SECONDARY_SE_QUAD_XY 268047.266 4521371.228 XY coords. - sec. SE quad cor.*
SECONDARY_SW_QUAD_XY 262774.997 4521538.630 XY coords. - sec. SW quad cor.*
RMSE_XY 2.30 doq horiz. accuracy*
IMAGE_SOURCE "BLACK AND WHITE FILM" b&w, cir, natural color, other*
SOURCE_IMAGE_ID "NAPP 7377 155" source image id*
SOURCE_IMAGE_DATE 1994 06 18 source image date as yyyy mm dd*
SOURCE_DEM_DATE 1997 01 01 source dem date yyyy mm dd*
AGENCY "WESTERN MAPPING CENTER (WMC)" oversight agency*
PRODUCER "SCIENCE APPLICATIONS INTERNATIONAL" producer/contractor*
PRODUCTION_SYSTEM "GIS/MAGIC" production system*
STANDARD_VERSION 1996 12 version of DOQ standard*
METADATA_DATE 1998 05 11 date created or changed, yyyy mm dd*
DATA_FILE_SIZE 47711139 data set size in bytes*
BYTE_COUNT 6181 header byte count* * * * * * * * * * * * * * * * * * * * * * * * * * * * * * * * * * *
END_USGS_HEADER *
