BEGIN_USGS_DOQ_HEADER *
QUADRANGLE_NAME "MCKESICK PEAK" 3.45 or 7.5-min. name*
QUADRANT NE quadrant indicator if cell size = 3.75-minutes*
WEST_LONGITUDE -120 11 15.000 signed deg min sec SDDD MM SS.SSS*
EAST_LONGITUDE -120 7 30.000 signed deg min sec SDDD MM SS.SSS*
NORTH_LATITUDE 40 7 30.000 signed deg min sec SDDD MM SS.SSS*
SOUTH_LATITUDE 40 3 45.000 signed deg min sec SDDD MM SS.SSS*
PRODUCTION_DATE 2001 1 24 yyyy mm dd*
RASTER_ORDER left_right/top_bottom video display order*
BAND_ORGANIZATION "single file" single file or BSQ, or BIL or BIP*
BAND_CONTENT BLACK&WHITE black&white or red green blue*
BITS_PER_PIXEL 8 radiometric resolution*
SAMPLES_AND_LINES 6251 7733 number of columns and rows*
HORIZONTAL_DATUM NAD83 primary horizontal datum*
HORIZONTAL_COORDINATE_SYSTEM UTM *
COORDINATE_ZONE 10 coordinate system zone number*
HORIZONTAL_UNITS meters coordinate system units*
HORIZONTAL_RESOLUTION 1.00 pixel horiz. ground sample distance*
SECONDARY_HORIZONTAL_DATUM NAD27 secondary horizontal datum*
XY_ORIGIN 739258.000 4445899.000 coord. of upper left pixel pri. datum*
SECONDARY_XY_ORIGIN 739352.764 4445702.444 coord upper left pixel sec datum*
NATION US nation code*
STATE CA state fip code*
NW_QUAD_CORNER_XY 739652.315 4445423.478 XY coords. of pri. NW quad corner*
NE_QUAD_CORNER_XY 744978.678 4445593.989 XY coords. of pri. NE quad corner*
SE_QUAD_CORNER_XY 745203.098 4438655.484 XY coords. of pri. SE quad corner*
SW_QUAD_CORNER_XY 739871.846 4438485.037 XY coords. of pri. SW quad corner*
SECONDARY_NW_QUAD_XY 739658.632 4445213.295 XY coords. - sec. NW quad cor.*
SECONDARY_NE_QUAD_XY 744985.136 4445383.811 XY coords. - sec. NE quad cor.*
SECONDARY_SE_QUAD_XY 745209.552 4438445.428 XY coords. - sec. SE quad cor.*
SECONDARY_SW_QUAD_XY 739878.160 4438274.976 XY coords. - sec. SW quad cor.*
RMSE_XY 2.25 doq horiz. accuracy*
IMAGE_SOURCE "BLACK AND WHITE FILM" b&w, cir, natural color, other*
SOURCE_IMAGE_ID "NAPP 10511-147" source image id*
SOURCE_IMAGE_DATE 1999 9 26 source image date as yyyy mm dd*
SOURCE_DEM_DATE 1997 7 1 source dem date yyyy mm dd*
AGENCY "WESTERN MAPPING CENTER (WMC)" oversight agency*
PRODUCER "WOOLPERT LLP" producer/contractor*
PRODUCTION_SYSTEM "INTERGRAPH ISPM, ISIR" production system*
STANDARD_VERSION 1996 12 version of DOQ standard*
METADATA_DATE 2001 1 26 date created or changed, yyyy mm dd*
DATA_FILE_SIZE 48345234 data set size in bytes*
BYTE_COUNT 6251 header byte count* * * * * * * * * * * * * * * * * * * * * * * * * * * * * * * * * * * *
END_USGS_HEADER *
