BEGIN_USGS_DOQ_HEADER *
QUADRANGLE_NAME "FERRIS CREEK" 3.45 or 7.5-min. name*
QUADRANT NE quadrant indicator if cell size = 3.75-minutes*
WEST_LONGITUDE -120 18 45.000 signed deg min sec SDDD MM SS.SSS*
EAST_LONGITUDE -120 15 0.000 signed deg min sec SDDD MM SS.SSS*
NORTH_LATITUDE 40 7 30.000 signed deg min sec SDDD MM SS.SSS*
SOUTH_LATITUDE 40 3 45.000 signed deg min sec SDDD MM SS.SSS*
PRODUCTION_DATE 2000 7 6 yyyy mm dd*
RASTER_ORDER left_right/top_bottom video display order*
BAND_ORGANIZATION "single file" single file or BSQ, or BIL or BIP*
BAND_CONTENT BLACK&WHITE black&white or red green blue*
BITS_PER_PIXEL 8 radiometric resolution*
SAMPLES_AND_LINES 6241 7726 number of columns and rows*
HORIZONTAL_DATUM NAD83 primary horizontal datum*
HORIZONTAL_COORDINATE_SYSTEM UTM *
COORDINATE_ZONE 10 coordinate system zone number*
HORIZONTAL_UNITS meters coordinate system units*
HORIZONTAL_RESOLUTION 1.00 pixel horiz. ground sample distance*
SECONDARY_HORIZONTAL_DATUM NAD27 secondary horizontal datum*
XY_ORIGIN 728605.000 4445562.000 coord. of upper left pixel pri. datum*
SECONDARY_XY_ORIGIN 728699.829 4445365.477 coord upper left pixel sec datum*
NATION US nation code*
STATE CA state fip code*
NW_QUAD_CORNER_XY 728999.734 4445093.720 XY coords. of pri. NW quad corner*
NE_QUAD_CORNER_XY 734326.001 4445256.722 XY coords. of pri. NE quad corner*
SE_QUAD_CORNER_XY 734540.644 4438318.344 XY coords. of pri. SE quad corner*
SW_QUAD_CORNER_XY 729209.490 4438155.404 XY coords. of pri. SW quad corner*
SECONDARY_NW_QUAD_XY 729005.770 4444883.529 XY coords. - sec. NW quad cor.*
SECONDARY_NE_QUAD_XY 734332.177 4445046.535 XY coords. - sec. NE quad cor.*
SECONDARY_SE_QUAD_XY 734546.817 4438108.279 XY coords. - sec. SE quad cor.*
SECONDARY_SW_QUAD_XY 729215.522 4437945.334 XY coords. - sec. SW quad cor.*
RMSE_XY 4.31 doq horiz. accuracy*
IMAGE_SOURCE "BLACK AND WHITE FILM" b&w, cir, natural color, other*
SOURCE_IMAGE_ID "NAPP 10506-062" source image id*
SOURCE_IMAGE_DATE 1998 8 24 source image date as yyyy mm dd*
SOURCE_IMAGE_ID "NAPP 10500-060" source image id*
SOURCE_IMAGE_DATE 1998 8 12 source image date as yyyy mm dd*
SOURCE_DEM_DATE 1997 6 1 source dem date yyyy mm dd*
AGENCY "WESTERN MAPPING CENTER (WMC)" oversight agency*
PRODUCER "WOOLPERT LLP" producer/contractor*
PRODUCTION_SYSTEM "INTERGRAPH ISPM, ISIR" production system*
STANDARD_VERSION 1996 12 version of DOQ standard*
METADATA_DATE 2000 7 6 date created or changed, yyyy mm dd*
DATA_FILE_SIZE 48224207 data set size in bytes*
BYTE_COUNT 6241 header byte count* * * * * * * * * * * * * * * * * * * * * * * * * * * * * * * * *
END_USGS_HEADER *
