BEGIN_USGS_DOQ_HEADER *
QUADRANGLE_NAME "SQUAW VALLEY PEAK" 3.45 or 7.5-min. name*
QUADRANT SE quadrant indicator if cell size = 3.75-minutes*
WEST_LONGITUDE -120 26 15.000 signed deg min sec SDDD MM SS.SSS*
EAST_LONGITUDE -120 22 30.000 signed deg min sec SDDD MM SS.SSS*
NORTH_LATITUDE 40 3 45.000 signed deg min sec SDDD MM SS.SSS*
SOUTH_LATITUDE 40 0 0.000 signed deg min sec SDDD MM SS.SSS*
PRODUCTION_DATE 2000 7 6 yyyy mm dd*
RASTER_ORDER left_right/top_bottom video display order*
BAND_ORGANIZATION "single file" single file or BSQ, or BIL or BIP*
BAND_CONTENT BLACK&WHITE black&white or red green blue*
BITS_PER_PIXEL 8 radiometric resolution*
SAMPLES_AND_LINES 6235 7719 number of columns and rows*
HORIZONTAL_DATUM NAD83 primary horizontal datum*
HORIZONTAL_COORDINATE_SYSTEM UTM *
COORDINATE_ZONE 10 coordinate system zone number*
HORIZONTAL_UNITS meters coordinate system units*
HORIZONTAL_RESOLUTION 1.00 pixel horiz. ground sample distance*
SECONDARY_HORIZONTAL_DATUM NAD27 secondary horizontal datum*
XY_ORIGIN 718153.000 4438302.000 coord. of upper left pixel pri. datum*
SECONDARY_XY_ORIGIN 718247.968 4438105.611 coord upper left pixel sec datum*
NATION US nation code*
STATE CA state fip code*
NW_QUAD_CORNER_XY 718547.321 4437840.781 XY coords. of pri. NW quad corner*
NE_QUAD_CORNER_XY 723878.382 4437996.217 XY coords. of pri. NE quad corner*
SE_QUAD_CORNER_XY 724082.984 4431058.020 XY coords. of pri. SE quad corner*
SW_QUAD_CORNER_XY 718747.043 4430902.645 XY coords. of pri. SW quad corner*
SECONDARY_NW_QUAD_XY 718553.073 4437630.703 XY coords. - sec. NW quad cor.*
SECONDARY_NE_QUAD_XY 723884.274 4437786.143 XY coords. - sec. NE quad cor.*
SECONDARY_SE_QUAD_XY 724088.872 4430848.069 XY coords. - sec. SE quad cor.*
SECONDARY_SW_QUAD_XY 718752.791 4430692.689 XY coords. - sec. SW quad cor.*
RMSE_XY 3.68 doq horiz. accuracy*
IMAGE_SOURCE "BLACK AND WHITE FILM" b&w, cir, natural color, other*
SOURCE_IMAGE_ID "NAPP 10501-025" source image id*
SOURCE_IMAGE_DATE 1998 8 13 source image date as yyyy mm dd*
SOURCE_DEM_DATE 1997 6 1 source dem date yyyy mm dd*
AGENCY "WESTERN MAPPING CENTER (WMC)" oversight agency*
PRODUCER "WOOLPERT LLP" producer/contractor*
PRODUCTION_SYSTEM "INTERGRAPH ISPM, ISIR" production system*
STANDARD_VERSION 1996 12 version of DOQ standard*
METADATA_DATE 2000 7 6 date created or changed, yyyy mm dd*
DATA_FILE_SIZE 48134200 data set size in bytes*
BYTE_COUNT 6235 header byte count* * * * * * * * * * * * * * * * * * * * * * * * * * * * * * * * * * *
END_USGS_HEADER *
