BEGIN_USGS_DOQ_HEADER *
QUADRANGLE_NAME "BABCOCK PEAK" 3.45 or 7.5-min. name*
QUADRANT NE quadrant indicator if cell size = 3.75-minutes*
WEST_LONGITUDE -120 33 45.000 signed deg min sec SDDD MM SS.SSS*
EAST_LONGITUDE -120 30 0.000 signed deg min sec SDDD MM SS.SSS*
NORTH_LATITUDE 40 7 30.000 signed deg min sec SDDD MM SS.SSS*
SOUTH_LATITUDE 40 3 45.000 signed deg min sec SDDD MM SS.SSS*
PRODUCTION_DATE 2000 7 6 yyyy mm dd*
RASTER_ORDER left_right/top_bottom video display order*
BAND_ORGANIZATION "single file" single file or BSQ, or BIL or BIP*
BAND_CONTENT BLACK&WHITE black&white or red green blue*
BITS_PER_PIXEL 8 radiometric resolution*
SAMPLES_AND_LINES 6222 7711 number of columns and rows*
HORIZONTAL_DATUM NAD83 primary horizontal datum*
HORIZONTAL_COORDINATE_SYSTEM UTM *
COORDINATE_ZONE 10 coordinate system zone number*
HORIZONTAL_UNITS meters coordinate system units*
HORIZONTAL_RESOLUTION 1.00 pixel horiz. ground sample distance*
SECONDARY_HORIZONTAL_DATUM NAD27 secondary horizontal datum*
XY_ORIGIN 707300.000 4444933.000 coord. of upper left pixel pri. datum*
SECONDARY_XY_ORIGIN 707395.086 4444736.637 coord upper left pixel sec datum*
NATION US nation code*
STATE CA state fip code*
NW_QUAD_CORNER_XY 707695.121 4444479.249 XY coords. of pri. NW quad corner*
NE_QUAD_CORNER_XY 713021.208 4444627.237 XY coords. of pri. NE quad corner*
SE_QUAD_CORNER_XY 713216.305 4437689.098 XY coords. of pri. SE quad corner*
SW_QUAD_CORNER_XY 707885.333 4437541.166 XY coords. of pri. SW quad corner*
SECONDARY_NW_QUAD_XY 707700.595 4444269.041 XY coords. - sec. NW quad cor.*
SECONDARY_NE_QUAD_XY 713026.823 4444417.034 XY coords. - sec. NE quad cor.*
SECONDARY_SE_QUAD_XY 713221.917 4437479.016 XY coords. - sec. SE quad cor.*
SECONDARY_SW_QUAD_XY 707890.804 4437331.080 XY coords. - sec. SW quad cor.*
RMSE_XY 3.73 doq horiz. accuracy*
IMAGE_SOURCE "BLACK AND WHITE FILM" b&w, cir, natural color, other*
SOURCE_IMAGE_ID "NAPP 10501-062" source image id*
SOURCE_IMAGE_DATE 1998 8 13 source image date as yyyy mm dd*
SOURCE_DEM_DATE 1997 7 1 source dem date yyyy mm dd*
AGENCY "WESTERN MAPPING CENTER (WMC)" oversight agency*
PRODUCER "WOOLPERT LLP" producer/contractor*
PRODUCTION_SYSTEM "INTERGRAPH ISPM, ISIR" production system*
STANDARD_VERSION 1996 12 version of DOQ standard*
METADATA_DATE 2000 7 6 date created or changed, yyyy mm dd*
DATA_FILE_SIZE 47984064 data set size in bytes*
BYTE_COUNT 6222 header byte count* * * * * * * * * * * * * * * * * * * * * * * * * * * * * * * * * * *
END_USGS_HEADER *
