BEGIN_USGS_DOQ_HEADER *
QUADRANGLE_NAME "TAYLORSVILLE" 3.45 or 7.5-min. name*
QUADRANT SE quadrant indicator if cell size = 3.75-minutes*
WEST_LONGITUDE -120 48 45.000 signed deg min sec SDDD MM SS.SSS*
EAST_LONGITUDE -120 45 0.000 signed deg min sec SDDD MM SS.SSS*
NORTH_LATITUDE 40 3 45.000 signed deg min sec SDDD MM SS.SSS*
SOUTH_LATITUDE 40 0 0.000 signed deg min sec SDDD MM SS.SSS*
PRODUCTION_DATE 2000 7 7 yyyy mm dd*
RASTER_ORDER left_right/top_bottom video display order*
BAND_ORGANIZATION "single file" single file or BSQ, or BIL or BIP*
BAND_CONTENT BLACK&WHITE black&white or red green blue*
BITS_PER_PIXEL 8 radiometric resolution*
SAMPLES_AND_LINES 6208 7696 number of columns and rows*
HORIZONTAL_DATUM NAD83 primary horizontal datum*
HORIZONTAL_COORDINATE_SYSTEM UTM *
COORDINATE_ZONE 10 coordinate system zone number*
HORIZONTAL_UNITS meters coordinate system units*
HORIZONTAL_RESOLUTION 1.00 pixel horiz. ground sample distance*
SECONDARY_HORIZONTAL_DATUM NAD27 secondary horizontal datum*
XY_ORIGIN 686166.000 4437425.000 coord. of upper left pixel pri. datum*
SECONDARY_XY_ORIGIN 686261.309 4437229.065 coord upper left pixel sec datum*
NATION US nation code*
STATE CA state fip code*
NW_QUAD_CORNER_XY 686561.862 4436986.940 XY coords. of pri. NW quad corner*
NE_QUAD_CORNER_XY 691892.669 4437119.871 XY coords. of pri. NE quad corner*
SE_QUAD_CORNER_XY 692068.001 4430182.012 XY coords. of pri. SE quad corner*
SW_QUAD_CORNER_XY 686732.317 4430049.131 XY coords. of pri. SW quad corner*
SECONDARY_NW_QUAD_XY 686566.771 4436776.839 XY coords. - sec. NW quad cor.*
SECONDARY_NE_QUAD_XY 691897.719 4436909.774 XY coords. - sec. NE quad cor.*
SECONDARY_SE_QUAD_XY 692073.047 4429972.037 XY coords. - sec. SE quad cor.*
SECONDARY_SW_QUAD_XY 686737.223 4429839.153 XY coords. - sec. SW quad cor.*
RMSE_XY 3.88 doq horiz. accuracy*
IMAGE_SOURCE "BLACK AND WHITE FILM" b&w, cir, natural color, other*
SOURCE_IMAGE_ID "NAPP 10497-019" source image id*
SOURCE_IMAGE_DATE 1998 8 3 source image date as yyyy mm dd*
SOURCE_IMAGE_ID "NAPP 10501-112" source image id*
SOURCE_IMAGE_DATE 1998 8 13 source image date as yyyy mm dd*
SOURCE_DEM_DATE 1997 6 1 source dem date yyyy mm dd*
AGENCY "WESTERN MAPPING CENTER (WMC)" oversight agency*
PRODUCER "WOOLPERT LLP" producer/contractor*
PRODUCTION_SYSTEM "INTERGRAPH ISPM, ISIR" production system*
STANDARD_VERSION 1996 12 version of DOQ standard*
METADATA_DATE 2000 7 7 date created or changed, yyyy mm dd*
DATA_FILE_SIZE 47782976 data set size in bytes*
BYTE_COUNT 6208 header byte count* * * * * * * * * * * * * * * * * * * * * * * * * * * * * * * * *
END_USGS_HEADER *
