BEGIN_USGS_DOQ_HEADER *
QUADRANGLE_NAME "CRESCENT MILLS" 3.45 or 7.5-min. name*
QUADRANT NW quadrant indicator if cell size = 3.75-minutes*
WEST_LONGITUDE -121 0 0.000 signed deg min sec SDDD MM SS.SSS*
EAST_LONGITUDE -120 56 15.000 signed deg min sec SDDD MM SS.SSS*
NORTH_LATITUDE 40 7 30.000 signed deg min sec SDDD MM SS.SSS*
SOUTH_LATITUDE 40 3 45.000 signed deg min sec SDDD MM SS.SSS*
PRODUCTION_DATE 2000 7 7 yyyy mm dd*
RASTER_ORDER left_right/top_bottom video display order*
BAND_ORGANIZATION "single file" single file or BSQ, or BIL or BIP*
BAND_CONTENT BLACK&WHITE black&white or red green blue*
BITS_PER_PIXEL 8 radiometric resolution*
SAMPLES_AND_LINES 6189 7685 number of columns and rows*
HORIZONTAL_DATUM NAD83 primary horizontal datum*
HORIZONTAL_COORDINATE_SYSTEM UTM *
COORDINATE_ZONE 10 coordinate system zone number*
HORIZONTAL_UNITS meters coordinate system units*
HORIZONTAL_RESOLUTION 1.00 pixel horiz. ground sample distance*
SECONDARY_HORIZONTAL_DATUM NAD27 secondary horizontal datum*
XY_ORIGIN 670017.000 4443976.000 coord. of upper left pixel pri. datum*
SECONDARY_XY_ORIGIN 670112.272 4443780.047 coord upper left pixel sec datum*
NATION US nation code*
STATE CA state fip code*
NW_QUAD_CORNER_XY 670413.633 4443548.367 XY coords. of pri. NW quad corner*
NE_QUAD_CORNER_XY 675739.447 4443670.099 XY coords. of pri. NE quad corner*
SE_QUAD_CORNER_XY 675900.361 4436732.323 XY coords. of pri. SE quad corner*
SW_QUAD_CORNER_XY 670569.665 4436610.637 XY coords. of pri. SW quad corner*
SECONDARY_NW_QUAD_XY 670418.124 4443338.135 XY coords. - sec. NW quad cor.*
SECONDARY_NE_QUAD_XY 675744.079 4443459.870 XY coords. - sec. NE quad cor.*
SECONDARY_SE_QUAD_XY 675904.990 4436522.216 XY coords. - sec. SE quad cor.*
SECONDARY_SW_QUAD_XY 670574.154 4436400.527 XY coords. - sec. SW quad cor.*
RMSE_XY 3.90 doq horiz. accuracy*
IMAGE_SOURCE "BLACK AND WHITE FILM" b&w, cir, natural color, other*
SOURCE_IMAGE_ID "NAPP 10498-063" source image id*
SOURCE_IMAGE_DATE 1998 8 3 source image date as yyyy mm dd*
SOURCE_DEM_DATE 1997 6 1 source dem date yyyy mm dd*
AGENCY "WESTERN MAPPING CENTER (WMC)" oversight agency*
PRODUCER "WOOLPERT LLP" producer/contractor*
PRODUCTION_SYSTEM "INTERGRAPH ISPM, ISIR" production system*
STANDARD_VERSION 1996 12 version of DOQ standard*
METADATA_DATE 2000 7 7 date created or changed, yyyy mm dd*
DATA_FILE_SIZE 47568654 data set size in bytes*
BYTE_COUNT 6189 header byte count* * * * * * * * * * * * * * * * * * * * * * * * * * * * * * * * * * *
END_USGS_HEADER *
