BEGIN_USGS_DOQ_HEADER *
QUADRANGLE_NAME "CRESCENT MILLS" 3.45 or 7.5-min. name*
QUADRANT SE quadrant indicator if cell size = 3.75-minutes*
WEST_LONGITUDE -120 56 15.000 signed deg min sec SDDD MM SS.SSS*
EAST_LONGITUDE -120 52 30.000 signed deg min sec SDDD MM SS.SSS*
NORTH_LATITUDE 40 3 45.000 signed deg min sec SDDD MM SS.SSS*
SOUTH_LATITUDE 40 0 0.000 signed deg min sec SDDD MM SS.SSS*
PRODUCTION_DATE 2000 7 7 yyyy mm dd*
RASTER_ORDER left_right/top_bottom video display order*
BAND_ORGANIZATION "single file" single file or BSQ, or BIL or BIP*
BAND_CONTENT BLACK&WHITE black&white or red green blue*
BITS_PER_PIXEL 8 radiometric resolution*
SAMPLES_AND_LINES 6198 7688 number of columns and rows*
HORIZONTAL_DATUM NAD83 primary horizontal datum*
HORIZONTAL_COORDINATE_SYSTEM UTM *
COORDINATE_ZONE 10 coordinate system zone number*
HORIZONTAL_UNITS meters coordinate system units*
HORIZONTAL_RESOLUTION 1.00 pixel horiz. ground sample distance*
SECONDARY_HORIZONTAL_DATUM NAD27 secondary horizontal datum*
XY_ORIGIN 675504.000 4437163.000 coord. of upper left pixel pri. datum*
SECONDARY_XY_ORIGIN 675599.294 4436967.081 coord upper left pixel sec datum*
NATION US nation code*
STATE CA state fip code*
NW_QUAD_CORNER_XY 675900.361 4436732.323 XY coords. of pri. NW quad corner*
NE_QUAD_CORNER_XY 681231.093 4436857.757 XY coords. of pri. NE quad corner*
SE_QUAD_CORNER_XY 681396.672 4429919.998 XY coords. of pri. SE quad corner*
SW_QUAD_CORNER_XY 676061.065 4429794.612 XY coords. of pri. SW quad corner*
SECONDARY_NW_QUAD_XY 675904.990 4436522.216 XY coords. - sec. NW quad cor.*
SECONDARY_NE_QUAD_XY 681235.862 4436647.653 XY coords. - sec. NE quad cor.*
SECONDARY_SE_QUAD_XY 681401.438 4429710.016 XY coords. - sec. SE quad cor.*
SECONDARY_SW_QUAD_XY 676065.691 4429584.627 XY coords. - sec. SW quad cor.*
RMSE_XY 3.24 doq horiz. accuracy*
IMAGE_SOURCE "BLACK AND WHITE FILM" b&w, cir, natural color, other*
SOURCE_IMAGE_ID "NAPP 10497-105" source image id*
SOURCE_IMAGE_DATE 1998 8 3 source image date as yyyy mm dd*
SOURCE_DEM_DATE 1997 6 1 source dem date yyyy mm dd*
AGENCY "WESTERN MAPPING CENTER (WMC)" oversight agency*
PRODUCER "WOOLPERT LLP" producer/contractor*
PRODUCTION_SYSTEM "INTERGRAPH ISPM, ISIR" production system*
STANDARD_VERSION 1996 12 version of DOQ standard*
METADATA_DATE 2000 7 7 date created or changed, yyyy mm dd*
DATA_FILE_SIZE 47656422 data set size in bytes*
BYTE_COUNT 6198 header byte count* * * * * * * * * * * * * * * * * * * * * * * * * * * * * * * * * * *
END_USGS_HEADER *
