BEGIN_USGS_DOQ_HEADER *
QUADRANGLE_NAME "CALNEVA LAKE" 3.45 or 7.5-min. name*
QUADRANT SE quadrant indicator if cell size = 3.75-minutes*
WEST_LONGITUDE -120 3 45.000 signed deg min sec SDDD MM SS.SSS*
EAST_LONGITUDE -120 0 0.000 signed deg min sec SDDD MM SS.SSS*
NORTH_LATITUDE 40 11 15.000 signed deg min sec SDDD MM SS.SSS*
SOUTH_LATITUDE 40 7 30.000 signed deg min sec SDDD MM SS.SSS*
PRODUCTION_DATE 1997 1 23 yyyy mm dd*
RASTER_ORDER LEFT_RIGHT/TOP_BOTTOM video display order*
BAND_ORGANIZATION "SINGLE FILE" single file or BSQ, or BIL or BIP*
BAND_CONTENT BLACK&WHITE black&white or red green blue*
BITS_PER_PIXEL 8 radiometric resolution*
SAMPLES_AND_LINES 6248 7733 number of columns and rows*
HORIZONTAL_DATUM NAD83 primary horizontal datum*
HORIZONTAL_COORDINATE_SYSTEM UTM *
COORDINATE_ZONE 10 coordinate system zone number*
HORIZONTAL_UNITS METERS coordinate system units*
HORIZONTAL_RESOLUTION 1.00 pixel horiz. ground sample distance*
SECONDARY_HORIZONTAL_DATUM NAD27 secondary horizontal datum*
XY_ORIGIN 749686.000 4453186.000 coord. of upper left pixel pri. datum*
SECONDARY_XY_ORIGIN 749780.780 4452989.312 coord upper left pixel sec datum*
NATION US nation code*
STATE CA state fip code*
NW_QUAD_CORNER_XY 750075.483 4452706.883 XY coords. of pri. NW quad corner*
NE_QUAD_CORNER_XY 755397.050 4452884.972 XY coords. of pri. NE quad corner*
SE_QUAD_CORNER_XY 755631.555 4445946.279 XY coords. of pri. SE quad corner*
SW_QUAD_CORNER_XY 750305.091 4445768.256 XY coords. of pri. SW quad corner*
SECONDARY_NW_QUAD_XY 750082.085 4452496.588 XY coords. - sec. NW quad cor.*
SECONDARY_NE_QUAD_XY 755403.793 4452674.682 XY coords. - sec. NE quad cor.*
SECONDARY_SE_QUAD_XY 755638.293 4445736.110 XY coords. - sec. SE quad cor.*
SECONDARY_SW_QUAD_XY 750311.689 4445558.083 XY coords. - sec. SW quad cor.*
RMSE_XY 1.00 doq horiz. accuracy*
IMAGE_SOURCE "BLACK AND WHITE FILM" b&w, cir, natural color, other*
SOURCE_IMAGE_ID "NAPP 6202 184" source image id*
SOURCE_IMAGE_DATE 1993 7 8 source image date as yyyy mm dd*
SOURCE_DEM_DATE 1997 1 23 source dem date yyyy mm dd*
AGENCY "WESTERN MAPPING CENTER (WMC)" oversight agency*
PRODUCER "WMC" producer/contractor*
PRODUCTION_SYSTEM "DV2.6.3 10/9OV2.4 5/95" production system*
STANDARD_VERSION 1996 12 version of DOQ standard*
METADATA_DATE 1997 11 8 date created or changed, yyyy mm dd*
DATA_FILE_SIZE 48322032 data set size in bytes*
BYTE_COUNT 6248 header byte count* * * * * * * * * * * * * * * * * * * * * * * * * * * * * * * * * * * *
END_USGS_HEADER *
