BEGIN_USGS_DOQ_HEADER *
QUADRANGLE_NAME "HERLONG" 3.45 or 7.5-min. name*
QUADRANT NE quadrant indicator if cell size = 3.75-minutes*
WEST_LONGITUDE -120 11 15.000 signed deg min sec SDDD MM SS.SSS*
EAST_LONGITUDE -120 7 30.000 signed deg min sec SDDD MM SS.SSS*
NORTH_LATITUDE 40 15 0.000 signed deg min sec SDDD MM SS.SSS*
SOUTH_LATITUDE 40 11 15.000 signed deg min sec SDDD MM SS.SSS*
PRODUCTION_DATE 1996 1 10 yyyy mm dd*
RASTER_ORDER LEFT_RIGHT/TOP_BOTTOM video display order*
BAND_ORGANIZATION "SINGLE FILE" single file or BSQ, or BIL or BIP*
BAND_CONTENT BLACK&WHITE black&white or red green blue*
BITS_PER_PIXEL 8 radiometric resolution*
SAMPLES_AND_LINES 6230 7723 number of columns and rows*
HORIZONTAL_DATUM NAD83 primary horizontal datum*
HORIZONTAL_COORDINATE_SYSTEM UTM *
COORDINATE_ZONE 10 coordinate system zone number*
HORIZONTAL_UNITS METERS coordinate system units*
HORIZONTAL_RESOLUTION 1.00 pixel horiz. ground sample distance*
SECONDARY_HORIZONTAL_DATUM NAD27 secondary horizontal datum*
XY_ORIGIN 738824.455 4459770.668 coord. of upper left pixel pri. datum*
SECONDARY_XY_ORIGIN 738919.217 4459573.894 coord upper left pixel sec datum*
NATION US nation code*
STATE CA state fip code*
NW_QUAD_CORNER_XY 739212.395 4459300.530 XY coords. of pri. NW quad corner*
NE_QUAD_CORNER_XY 744528.961 4459471.168 XY coords. of pri. NE quad corner*
SE_QUAD_CORNER_XY 744753.966 4452532.551 XY coords. of pri. SE quad corner*
SW_QUAD_CORNER_XY 739432.498 4452361.976 XY coords. of pri. SW quad corner*
SECONDARY_NW_QUAD_XY 739218.719 4459090.107 XY coords. - sec. NW quad cor.*
SECONDARY_NE_QUAD_XY 744535.427 4459260.749 XY coords. - sec. NE quad cor.*
SECONDARY_SE_QUAD_XY 744760.427 4452322.252 XY coords. - sec. SE quad cor.*
SECONDARY_SW_QUAD_XY 739438.819 4452151.672 XY coords. - sec. SW quad cor.*
RMSE_XY 1.50 doq horiz. accuracy*
IMAGE_SOURCE "BLACK AND WHITE FILM" b&w, cir, natural color, other*
SOURCE_IMAGE_ID "NAPP 6214 24" source image id*
SOURCE_IMAGE_DATE 1993 7 27 source image date as yyyy mm dd*
IMAGE_SOURCE "BLACK AND WHITE FILM" b&w, cir, natural color, other*
SOURCE_IMAGE_ID "NAPP 6214 6214" source image id*
SOURCE_IMAGE_DATE 1993 7 27 source image date as yyyy mm dd*
IMAGE_SOURCE "BLACK AND WHITE FILM" b&w, cir, natural color, other*
SOURCE_IMAGE_ID "NAPP 6214 25" source image id*
SOURCE_IMAGE_DATE 1993 7 27 source image date as yyyy mm dd*
SOURCE_DEM_DATE 1996 1 10 source dem date yyyy mm dd*
AGENCY "WESTERN MAPPING CENTER (WMC)" oversight agency*
PRODUCER "Aerial Data Reduction Associates" producer/contractor*
PRODUCTION_SYSTEM "INTERGRAPH ISPM,ISIR" production system*
STANDARD_VERSION 1996 12 version of DOQ standard*
METADATA_DATE 1997 7 16 date created or changed, yyyy mm dd*
DATA_FILE_SIZE 48120520 data set size in bytes*
BYTE_COUNT 6230 header byte count* * * * * * * * * * * * * * * * * * * * * * * * * * * * *
END_USGS_HEADER *
