BEGIN_USGS_DOQ_HEADER *
QUADRANGLE_NAME "MILFORD" 3.45 or 7.5-min. name*
QUADRANT NE quadrant indicator if cell size = 3.75-minutes*
WEST_LONGITUDE -120 18 45.000 signed deg min sec SDDD MM SS.SSS*
EAST_LONGITUDE -120 15 0.000 signed deg min sec SDDD MM SS.SSS*
NORTH_LATITUDE 40 15 0.000 signed deg min sec SDDD MM SS.SSS*
SOUTH_LATITUDE 40 11 15.000 signed deg min sec SDDD MM SS.SSS*
PRODUCTION_DATE 2000 7 6 yyyy mm dd*
RASTER_ORDER left_right/top_bottom video display order*
BAND_ORGANIZATION "single file" single file or BSQ, or BIL or BIP*
BAND_CONTENT BLACK&WHITE black&white or red green blue*
BITS_PER_PIXEL 8 radiometric resolution*
SAMPLES_AND_LINES 6232 7726 number of columns and rows*
HORIZONTAL_DATUM NAD83 primary horizontal datum*
HORIZONTAL_COORDINATE_SYSTEM UTM *
COORDINATE_ZONE 10 coordinate system zone number*
HORIZONTAL_UNITS meters coordinate system units*
HORIZONTAL_RESOLUTION 1.00 pixel horiz. ground sample distance*
SECONDARY_HORIZONTAL_DATUM NAD27 secondary horizontal datum*
XY_ORIGIN 728185.000 4459439.000 coord. of upper left pixel pri. datum*
SECONDARY_XY_ORIGIN 728279.819 4459242.265 coord upper left pixel sec datum*
NATION US nation code*
STATE CA state fip code*
NW_QUAD_CORNER_XY 728579.402 4458970.528 XY coords. of pri. NW quad corner*
NE_QUAD_CORNER_XY 733895.875 4459133.650 XY coords. of pri. NE quad corner*
SE_QUAD_CORNER_XY 734111.078 4452195.157 XY coords. of pri. SE quad corner*
SW_QUAD_CORNER_XY 728789.705 4452032.095 XY coords. of pri. SW quad corner*
SECONDARY_NW_QUAD_XY 728585.446 4458760.096 XY coords. - sec. NW quad cor.*
SECONDARY_NE_QUAD_XY 733902.060 4458923.223 XY coords. - sec. NE quad cor.*
SECONDARY_SE_QUAD_XY 734117.258 4451984.849 XY coords. - sec. SE quad cor.*
SECONDARY_SW_QUAD_XY 728795.745 4451821.782 XY coords. - sec. SW quad cor.*
RMSE_XY 4.47 doq horiz. accuracy*
IMAGE_SOURCE "BLACK AND WHITE FILM" b&w, cir, natural color, other*
SOURCE_IMAGE_ID "NAPP 10506-058" source image id*
SOURCE_IMAGE_DATE 1998 8 24 source image date as yyyy mm dd*
SOURCE_DEM_DATE 1997 7 1 source dem date yyyy mm dd*
AGENCY "WESTERN MAPPING CENTER (WMC)" oversight agency*
PRODUCER "WOOLPERT LLP" producer/contractor*
PRODUCTION_SYSTEM "INTERGRAPH ISPM, ISIR" production system*
STANDARD_VERSION 1996 12 version of DOQ standard*
METADATA_DATE 2000 7 6 date created or changed, yyyy mm dd*
DATA_FILE_SIZE 48154664 data set size in bytes*
BYTE_COUNT 6232 header byte count* * * * * * * * * * * * * * * * * * * * * * * * * * * * * * * * * * *
END_USGS_HEADER *
