BEGIN_USGS_DOQ_HEADER *
QUADRANGLE_NAME "MILFORD" 3.45 or 7.5-min. name*
QUADRANT SW quadrant indicator if cell size = 3.75-minutes*
WEST_LONGITUDE -120 22 30.000 signed deg min sec SDDD MM SS.SSS*
EAST_LONGITUDE -120 18 45.000 signed deg min sec SDDD MM SS.SSS*
NORTH_LATITUDE 40 11 15.000 signed deg min sec SDDD MM SS.SSS*
SOUTH_LATITUDE 40 7 30.000 signed deg min sec SDDD MM SS.SSS*
PRODUCTION_DATE 2000 7 6 yyyy mm dd*
RASTER_ORDER left_right/top_bottom video display order*
BAND_ORGANIZATION "single file" single file or BSQ, or BIL or BIP*
BAND_CONTENT BLACK&WHITE black&white or red green blue*
BITS_PER_PIXEL 8 radiometric resolution*
SAMPLES_AND_LINES 6231 7723 number of columns and rows*
HORIZONTAL_DATUM NAD83 primary horizontal datum*
HORIZONTAL_COORDINATE_SYSTEM UTM *
COORDINATE_ZONE 10 coordinate system zone number*
HORIZONTAL_UNITS meters coordinate system units*
HORIZONTAL_RESOLUTION 1.00 pixel horiz. ground sample distance*
SECONDARY_HORIZONTAL_DATUM NAD27 secondary horizontal datum*
XY_ORIGIN 723074.000 4452338.000 coord. of upper left pixel pri. datum*
SECONDARY_XY_ORIGIN 723168.888 4452141.394 coord upper left pixel sec datum*
NATION US nation code*
STATE CA state fip code*
NW_QUAD_CORNER_XY 723468.378 4451872.787 XY coords. of pri. NW quad corner*
NE_QUAD_CORNER_XY 728789.705 4452032.095 XY coords. of pri. NE quad corner*
SE_QUAD_CORNER_XY 728999.734 4445093.720 XY coords. of pri. SE quad corner*
SW_QUAD_CORNER_XY 723673.514 4444934.472 XY coords. of pri. SW quad corner*
SECONDARY_NW_QUAD_XY 723474.277 4451662.471 XY coords. - sec. NW quad cor.*
SECONDARY_NE_QUAD_XY 728795.745 4451821.782 XY coords. - sec. NE quad cor.*
SECONDARY_SE_QUAD_XY 729005.770 4444883.529 XY coords. - sec. SE quad cor.*
SECONDARY_SW_QUAD_XY 723679.409 4444724.277 XY coords. - sec. SW quad cor.*
RMSE_XY 3.41 doq horiz. accuracy*
IMAGE_SOURCE "BLACK AND WHITE FILM" b&w, cir, natural color, other*
SOURCE_IMAGE_ID "NAPP 10500-060" source image id*
SOURCE_IMAGE_DATE 1998 8 12 source image date as yyyy mm dd*
SOURCE_DEM_DATE 1997 7 1 source dem date yyyy mm dd*
AGENCY "WESTERN MAPPING CENTER (WMC)" oversight agency*
PRODUCER "WOOLPERT LLP" producer/contractor*
PRODUCTION_SYSTEM "INTERGRAPH ISPM, ISIR" production system*
STANDARD_VERSION 1996 12 version of DOQ standard*
METADATA_DATE 2000 7 6 date created or changed, yyyy mm dd*
DATA_FILE_SIZE 48128244 data set size in bytes*
BYTE_COUNT 6231 header byte count* * * * * * * * * * * * * * * * * * * * * * * * * * * * * * * * * * *
END_USGS_HEADER *
