BEGIN_USGS_DOQ_HEADER *
QUADRANGLE_NAME "STONY RIDGE" 3.45 or 7.5-min. name*
QUADRANT NE quadrant indicator if cell size = 3.75-minutes*
WEST_LONGITUDE -120 26 15.000 signed deg min sec SDDD MM SS.SSS*
EAST_LONGITUDE -120 22 30.000 signed deg min sec SDDD MM SS.SSS*
NORTH_LATITUDE 40 15 0.000 signed deg min sec SDDD MM SS.SSS*
SOUTH_LATITUDE 40 11 15.000 signed deg min sec SDDD MM SS.SSS*
PRODUCTION_DATE 2000 7 6 yyyy mm dd*
RASTER_ORDER left_right/top_bottom video display order*
BAND_ORGANIZATION "single file" single file or BSQ, or BIL or BIP*
BAND_CONTENT BLACK&WHITE black&white or red green blue*
BITS_PER_PIXEL 8 radiometric resolution*
SAMPLES_AND_LINES 6222 7719 number of columns and rows*
HORIZONTAL_DATUM NAD83 primary horizontal datum*
HORIZONTAL_COORDINATE_SYSTEM UTM *
COORDINATE_ZONE 10 coordinate system zone number*
HORIZONTAL_UNITS meters coordinate system units*
HORIZONTAL_RESOLUTION 1.00 pixel horiz. ground sample distance*
SECONDARY_HORIZONTAL_DATUM NAD27 secondary horizontal datum*
XY_ORIGIN 717552.000 4459117.000 coord. of upper left pixel pri. datum*
SECONDARY_XY_ORIGIN 717646.945 4458920.325 coord upper left pixel sec datum*
NATION US nation code*
STATE CA state fip code*
NW_QUAD_CORNER_XY 717946.591 4458655.552 XY coords. of pri. NW quad corner*
NE_QUAD_CORNER_XY 723262.975 4458811.162 XY coords. of pri. NE quad corner*
SE_QUAD_CORNER_XY 723468.378 4451872.787 XY coords. of pri. SE quad corner*
SW_QUAD_CORNER_XY 718147.095 4451717.235 XY coords. of pri. SW quad corner*
SECONDARY_NW_QUAD_XY 717952.353 4458445.112 XY coords. - sec. NW quad cor.*
SECONDARY_NE_QUAD_XY 723268.877 4458600.725 XY coords. - sec. NE quad cor.*
SECONDARY_SE_QUAD_XY 723474.277 4451662.471 XY coords. - sec. SE quad cor.*
SECONDARY_SW_QUAD_XY 718152.854 4451506.915 XY coords. - sec. SW quad cor.*
RMSE_XY 3.33 doq horiz. accuracy*
IMAGE_SOURCE "BLACK AND WHITE FILM" b&w, cir, natural color, other*
SOURCE_IMAGE_ID "NAPP 10500-066" source image id*
SOURCE_IMAGE_DATE 1998 8 12 source image date as yyyy mm dd*
SOURCE_DEM_DATE 1997 7 1 source dem date yyyy mm dd*
AGENCY "WESTERN MAPPING CENTER (WMC)" oversight agency*
PRODUCER "WOOLPERT LLP" producer/contractor*
PRODUCTION_SYSTEM "INTERGRAPH ISPM, ISIR" production system*
STANDARD_VERSION 1996 12 version of DOQ standard*
METADATA_DATE 2000 7 6 date created or changed, yyyy mm dd*
DATA_FILE_SIZE 48033840 data set size in bytes*
BYTE_COUNT 6222 header byte count* * * * * * * * * * * * * * * * * * * * * * * * * * * * * * * * * * *
END_USGS_HEADER *
