BEGIN_USGS_DOQ_HEADER *
QUADRANGLE_NAME "ANTELOPE LAKE" 3.45 or 7.5-min. name*
QUADRANT NE quadrant indicator if cell size = 3.75-minutes*
WEST_LONGITUDE -120 33 45.000 signed deg min sec SDDD MM SS.SSS*
EAST_LONGITUDE -120 30 0.000 signed deg min sec SDDD MM SS.SSS*
NORTH_LATITUDE 40 15 0.000 signed deg min sec SDDD MM SS.SSS*
SOUTH_LATITUDE 40 11 15.000 signed deg min sec SDDD MM SS.SSS*
PRODUCTION_DATE 2000 7 6 yyyy mm dd*
RASTER_ORDER left_right/top_bottom video display order*
BAND_ORGANIZATION "single file" single file or BSQ, or BIL or BIP*
BAND_CONTENT BLACK&WHITE black&white or red green blue*
BITS_PER_PIXEL 8 radiometric resolution*
SAMPLES_AND_LINES 6212 7711 number of columns and rows*
HORIZONTAL_DATUM NAD83 primary horizontal datum*
HORIZONTAL_COORDINATE_SYSTEM UTM *
COORDINATE_ZONE 10 coordinate system zone number*
HORIZONTAL_UNITS meters coordinate system units*
HORIZONTAL_RESOLUTION 1.00 pixel horiz. ground sample distance*
SECONDARY_HORIZONTAL_DATUM NAD27 secondary horizontal datum*
XY_ORIGIN 706919.000 4458809.000 coord. of upper left pixel pri. datum*
SECONDARY_XY_ORIGIN 707014.044 4458612.439 coord upper left pixel sec datum*
NATION US nation code*
STATE CA state fip code*
NW_QUAD_CORNER_XY 707313.953 4458355.600 XY coords. of pri. NW quad corner*
NE_QUAD_CORNER_XY 712630.251 4458503.698 XY coords. of pri. NE quad corner*
SE_QUAD_CORNER_XY 712825.857 4451565.437 XY coords. of pri. SE quad corner*
SW_QUAD_CORNER_XY 707504.661 4451417.393 XY coords. of pri. SW quad corner*
SECONDARY_NW_QUAD_XY 707319.433 4458145.151 XY coords. - sec. NW quad cor.*
SECONDARY_NE_QUAD_XY 712635.872 4458293.254 XY coords. - sec. NE quad cor.*
SECONDARY_SE_QUAD_XY 712831.475 4451355.113 XY coords. - sec. SE quad cor.*
SECONDARY_SW_QUAD_XY 707510.138 4451207.065 XY coords. - sec. SW quad cor.*
RMSE_XY 4.04 doq horiz. accuracy*
IMAGE_SOURCE "BLACK AND WHITE FILM" b&w, cir, natural color, other*
SOURCE_IMAGE_ID "NAPP 10501-066" source image id*
SOURCE_IMAGE_DATE 1998 8 13 source image date as yyyy mm dd*
SOURCE_DEM_DATE 1997 6 1 source dem date yyyy mm dd*
AGENCY "WESTERN MAPPING CENTER (WMC)" oversight agency*
PRODUCER "WOOLPERT LLP" producer/contractor*
PRODUCTION_SYSTEM "INTERGRAPH ISPM, ISIR" production system*
STANDARD_VERSION 1996 12 version of DOQ standard*
METADATA_DATE 2000 7 6 date created or changed, yyyy mm dd*
DATA_FILE_SIZE 47906944 data set size in bytes*
BYTE_COUNT 6212 header byte count* * * * * * * * * * * * * * * * * * * * * * * * * * * * * * * * * * *
END_USGS_HEADER *
