BEGIN_USGS_DOQ_HEADER *
QUADRANGLE_NAME "GREENVILLE" 3.45 or 7.5-min. name*
QUADRANT NE quadrant indicator if cell size = 3.75-minutes*
WEST_LONGITUDE -120 56 15.000 signed deg min sec SDDD MM SS.SSS*
EAST_LONGITUDE -120 52 30.000 signed deg min sec SDDD MM SS.SSS*
NORTH_LATITUDE 40 15 0.000 signed deg min sec SDDD MM SS.SSS*
SOUTH_LATITUDE 40 11 15.000 signed deg min sec SDDD MM SS.SSS*
PRODUCTION_DATE 2000 7 7 yyyy mm dd*
RASTER_ORDER left_right/top_bottom video display order*
BAND_ORGANIZATION "single file" single file or BSQ, or BIL or BIP*
BAND_CONTENT BLACK&WHITE black&white or red green blue*
BITS_PER_PIXEL 8 radiometric resolution*
SAMPLES_AND_LINES 6184 7689 number of columns and rows*
HORIZONTAL_DATUM NAD83 primary horizontal datum*
HORIZONTAL_COORDINATE_SYSTEM UTM *
COORDINATE_ZONE 10 coordinate system zone number*
HORIZONTAL_UNITS meters coordinate system units*
HORIZONTAL_RESOLUTION 1.00 pixel horiz. ground sample distance*
SECONDARY_HORIZONTAL_DATUM NAD27 secondary horizontal datum*
XY_ORIGIN 675021.000 4457977.000 coord. of upper left pixel pri. datum*
SECONDARY_XY_ORIGIN 675116.219 4457780.885 coord upper left pixel sec datum*
NATION US nation code*
STATE CA state fip code*
NW_QUAD_CORNER_XY 675416.990 4457545.848 XY coords. of pri. NW quad corner*
NE_QUAD_CORNER_XY 680733.057 4457671.423 XY coords. of pri. NE quad corner*
SE_QUAD_CORNER_XY 680899.285 4450733.470 XY coords. of pri. SE quad corner*
SW_QUAD_CORNER_XY 675578.323 4450607.941 XY coords. of pri. SW quad corner*
SECONDARY_NW_QUAD_XY 675421.627 4457335.379 XY coords. - sec. NW quad cor.*
SECONDARY_NE_QUAD_XY 680737.835 4457460.957 XY coords. - sec. NE quad cor.*
SECONDARY_SE_QUAD_XY 680904.060 4450523.123 XY coords. - sec. SE quad cor.*
SECONDARY_SW_QUAD_XY 675582.958 4450397.591 XY coords. - sec. SW quad cor.*
RMSE_XY 3.62 doq horiz. accuracy*
IMAGE_SOURCE "BLACK AND WHITE FILM" b&w, cir, natural color, other*
SOURCE_IMAGE_ID "NAPP 10497-111" source image id*
SOURCE_IMAGE_DATE 1998 8 3 source image date as yyyy mm dd*
SOURCE_IMAGE_ID "NAPP 10497-064" source image id*
SOURCE_IMAGE_DATE 1998 8 3 source image date as yyyy mm dd*
SOURCE_DEM_DATE 1997 1 1 source dem date yyyy mm dd*
AGENCY "WESTERN MAPPING CENTER (WMC)" oversight agency*
PRODUCER "WOOLPERT LLP" producer/contractor*
PRODUCTION_SYSTEM "INTERGRAPH ISPM, ISIR" production system*
STANDARD_VERSION 1996 12 version of DOQ standard*
METADATA_DATE 2000 7 7 date created or changed, yyyy mm dd*
DATA_FILE_SIZE 47554960 data set size in bytes*
BYTE_COUNT 6184 header byte count* * * * * * * * * * * * * * * * * * * * * * * * * * * * * * * * *
END_USGS_HEADER *
