BEGIN_USGS_DOQ_HEADER *
QUADRANGLE_NAME "SPENCER CREEK" 3.45 or 7.5-min. name*
QUADRANT NE quadrant indicator if cell size = 3.75-minutes*
WEST_LONGITUDE -120 3 45.000 signed deg min sec SDDD MM SS.SSS*
EAST_LONGITUDE -120 0 0.000 signed deg min sec SDDD MM SS.SSS*
NORTH_LATITUDE 40 22 30.000 signed deg min sec SDDD MM SS.SSS*
SOUTH_LATITUDE 40 18 45.000 signed deg min sec SDDD MM SS.SSS*
PRODUCTION_DATE 1997 1 23 yyyy mm dd*
RASTER_ORDER LEFT_RIGHT/TOP_BOTTOM video display order*
BAND_ORGANIZATION "SINGLE FILE" single file or BSQ, or BIL or BIP*
BAND_CONTENT BLACK&WHITE black&white or red green blue*
BITS_PER_PIXEL 8 radiometric resolution*
SAMPLES_AND_LINES 6232 7733 number of columns and rows*
HORIZONTAL_DATUM NAD83 primary horizontal datum*
HORIZONTAL_COORDINATE_SYSTEM UTM *
COORDINATE_ZONE 10 coordinate system zone number*
HORIZONTAL_UNITS METERS coordinate system units*
HORIZONTAL_RESOLUTION 1.00 pixel horiz. ground sample distance*
SECONDARY_HORIZONTAL_DATUM NAD27 secondary horizontal datum*
XY_ORIGIN 748996.000 4474002.000 coord. of upper left pixel pri. datum*
SECONDARY_XY_ORIGIN 749090.720 4473805.098 coord upper left pixel sec datum*
NATION US nation code*
STATE CA state fip code*
NW_QUAD_CORNER_XY 749384.869 4473523.095 XY coords. of pri. NW quad corner*
NE_QUAD_CORNER_XY 754691.709 4473701.378 XY coords. of pri. NE quad corner*
SE_QUAD_CORNER_XY 754927.127 4466762.521 XY coords. of pri. SE quad corner*
SW_QUAD_CORNER_XY 749615.372 4466584.302 XY coords. of pri. SW quad corner*
SECONDARY_NW_QUAD_XY 749391.483 4473312.443 XY coords. - sec. NW quad cor.*
SECONDARY_NE_QUAD_XY 754698.463 4473490.731 XY coords. - sec. NE quad cor.*
SECONDARY_SE_QUAD_XY 754933.878 4466551.993 XY coords. - sec. SE quad cor.*
SECONDARY_SW_QUAD_XY 749621.982 4466373.769 XY coords. - sec. SW quad cor.*
RMSE_XY 1.50 doq horiz. accuracy*
IMAGE_SOURCE "BLACK AND WHITE FILM" b&w, cir, natural color, other*
SOURCE_IMAGE_ID "NAPP 6202 190" source image id*
SOURCE_IMAGE_DATE 1993 7 8 source image date as yyyy mm dd*
SOURCE_DEM_DATE 1997 1 23 source dem date yyyy mm dd*
AGENCY "WESTERN MAPPING CENTER (WMC)" oversight agency*
PRODUCER "WMC" producer/contractor*
PRODUCTION_SYSTEM "DV2.6.3 10/9OV2.4 5/95" production system*
STANDARD_VERSION 1996 12 version of DOQ standard*
METADATA_DATE 1997 11 8 date created or changed, yyyy mm dd*
DATA_FILE_SIZE 48198288 data set size in bytes*
BYTE_COUNT 6232 header byte count* * * * * * * * * * * * * * * * * * * * * * * * * * * * * * * * * * *
END_USGS_HEADER *
